﻿BEGIN:VCALENDAR
VERSION:2.0
PRODID:-//Jazz04 - ECPv5.3.2.1//NONSGML v1.0//EN
CALSCALE:GREGORIAN
METHOD:PUBLISH
X-WR-CALNAME:Jazz04
X-ORIGINAL-URL:https://jazz04.be
X-WR-CALDESC:évènements pour Jazz04
BEGIN:VTIMEZONE
TZID:Europe/Paris
BEGIN:DAYLIGHT
TZOFFSETFROM:+0100
TZOFFSETTO:+0200
TZNAME:CEST
DTSTART:20210328T010000
END:DAYLIGHT
BEGIN:STANDARD
TZOFFSETFROM:+0200
TZOFFSETTO:+0100
TZNAME:CET
DTSTART:20211031T010000
END:STANDARD
END:VTIMEZONE
BEGIN:VEVENT
DTSTART;TZID=Europe/Paris:20211112T200000
DTEND;TZID=Europe/Paris:20211112T230000
DTSTAMP:20260424T160702
CREATED:20211007T133905Z
LAST-MODIFIED:20211022T113313Z
UID:2718-1636747200-1636758000@jazz04.be
SUMMARY:22ème Stavelot Jazz  - 1/2
DESCRIPTION:BAM ! trio (b) \nLine up : Maxime Moyaerts : orgue hammond | Bastien Jeunieaux : guitare | Arnaud Cabay : batterie \n« BAM! C’est le fruit de la rencontre entre trois artistes singuliers\, venus des quatre coins de la Wallonie\, autour de cet instrument quasi mythologique qu’est l’orgue Hammond. Du Jazz ? Oui mais pas que. Le groove\, le rock\, la soul et les ballades ensorcelantes sont la matière première de cette décoction explosive. Leur premier album vient de sortir cet été\, et devinez qui va avoir le privilège de s’en mettre plein les oreilles ? \nSuivi de Via Toledo Jazz Quartet (b) \nLine up : Angelo Gregorio : saxophone | Bruno Castelluci : batterie | Paolo Loveri : guitare | Jacques Pili : contrebasse. \nLe nom du quartet est inspiré par la Via Toledo une des principales artères de la ville de Naples\, en Italie. Les quatre musiciens fondateurs du quartet se sont rencontrés dans le même état d’esprit que la Via Toledo à Naples : bonheur et passion pour la musique en général et pour le jazz en particulier. Via Toledo propose un jazz original et performant nourri des compositions originales du jeune artiste émergeant Angelo Gregorio\, assorties de standards moins connus du jazz. \nIl expose pendant le 22ème Stavelot Jazz : Blaise DEHON \n  \nInfo et réservation en ligne : ccstp.be ou au 080 88 05 20 | PAF : 15 € sur place et 13 € en prévente \nPASS 2 jours : 25 € (20 € prévente ou étudiant)
URL:https://jazz04.be/event/22eme-stavelot-jazz-copy/
LOCATION:Caves de l’Abbaye de Stavelot\, Cour de l'Abbaye\, Stavelot\, Liège\, 4970\, Belgique
CATEGORIES:Concerts,Expositions,Festivals,session d'écoute
ATTACH;FMTTYPE=image/png:https://jazz04.be/wp-content/uploads/2021/10/jazz-2021-.png
ORGANIZER;CN="Centre%20culturel%20Stavelot%20Trois-Ponts":MAILTO:info@ccstp.be
END:VEVENT
END:VCALENDAR