﻿BEGIN:VCALENDAR
VERSION:2.0
PRODID:-//Jazz04 - ECPv5.3.2.1//NONSGML v1.0//EN
CALSCALE:GREGORIAN
METHOD:PUBLISH
X-WR-CALNAME:Jazz04
X-ORIGINAL-URL:https://jazz04.be
X-WR-CALDESC:évènements pour Jazz04
BEGIN:VTIMEZONE
TZID:Europe/Paris
BEGIN:DAYLIGHT
TZOFFSETFROM:+0100
TZOFFSETTO:+0200
TZNAME:CEST
DTSTART:20260329T010000
END:DAYLIGHT
BEGIN:STANDARD
TZOFFSETFROM:+0200
TZOFFSETTO:+0100
TZNAME:CET
DTSTART:20261025T010000
END:STANDARD
END:VTIMEZONE
BEGIN:VEVENT
DTSTART;TZID=Europe/Paris:20260421T080000
DTEND;TZID=Europe/Paris:20260421T170000
DTSTAMP:20260421T155338
CREATED:20260421T111945Z
LAST-MODIFIED:20260421T113451Z
UID:5941-1776758400-1776790800@jazz04.be
SUMMARY:Alejandra Borzyk – TREMOR
DESCRIPTION:alejandra borzyk présente pour la première fois son nouveau projet « TREMOR ».\nIel rassemble son univers artistique avec les univers musicaux et sensibilités d’Adèle Viret (violoncelle)\, Benoît Quentin (contrebasse) et Diogo Alexandre (batterie et électronique). Les quatre musicien·nes se rencontrent pour créer collectivement un répertoire original\, fondé sur l’exploration et la combinaison des sons venant des techniques étendues des cordes et du saxophone.\nLa transe et la méditation étant leur point de départ\, le groupe plonge dans un mélange sonore à réminiscences orchestrales\, de textures sonores bruitistes\, avec une touche de synthèse granulaire et de l’improvisation libre. \nAlejandra Borzyk – saxophone \nAdèle Viret – violoncelle \nBenoît Quentin – contrebasse \nDiogo Alexandre – batterie\, électronique
URL:https://jazz04.be/event/alejandra-borzyk-tremor/
LOCATION:L’An Vert
CATEGORIES:Concerts
ATTACH;FMTTYPE=image/jpeg:https://jazz04.be/wp-content/uploads/2026/04/Tremor.jpg
ORGANIZER;CN="l%27An%20Vert":MAILTO:info@lanvert.be
END:VEVENT
END:VCALENDAR