﻿BEGIN:VCALENDAR
VERSION:2.0
PRODID:-//Jazz04 - ECPv5.3.2.1//NONSGML v1.0//EN
CALSCALE:GREGORIAN
METHOD:PUBLISH
X-WR-CALNAME:Jazz04
X-ORIGINAL-URL:https://jazz04.be
X-WR-CALDESC:évènements pour Jazz04
BEGIN:VTIMEZONE
TZID:Europe/Paris
BEGIN:DAYLIGHT
TZOFFSETFROM:+0100
TZOFFSETTO:+0200
TZNAME:CEST
DTSTART:20240331T010000
END:DAYLIGHT
BEGIN:STANDARD
TZOFFSETFROM:+0200
TZOFFSETTO:+0100
TZNAME:CET
DTSTART:20241027T010000
END:STANDARD
END:VTIMEZONE
BEGIN:VEVENT
DTSTART;TZID=Europe/Paris:20240113T203000
DTEND;TZID=Europe/Paris:20240113T223000
DTSTAMP:20260426T040558
CREATED:20231215T101151Z
LAST-MODIFIED:20231215T102103Z
UID:4557-1705177800-1705185000@jazz04.be
SUMMARY:ALLERIA ! Pino Daniele Progett’ feat. Paolo Loveri
DESCRIPTION:Dès les premières notes\, le quartet nous plonge sur les plages brûlantes de Naples à l’ombre d’un Vésuve crachant ses «blue notes»\, comme un soleil en plein hiver.\nLa musique d’Allería ! Progett’ est teintée de blues\, de jazz\, de musique latine\, de tarentelles napolitaines; toutes formes musicales qui ont influencé le guitariste exceptionnel qu’était Pino Daniele. \nUne musique qui dégage la soif de vie et d’amour si chère aux peuples du Sud. Pino Daniele\, qui se disait d’abord musicien\, était un vrai poète. Ses textes\, dotés d’une forte puissance évocatrice\, parlent notamment de l’escalade effrénée d’un monde consumériste\, célèbrent son amour inconditionnel pour sa terre mère\, sa foi en l’homme\, en l’amour et en la diversité qu’ incarne pour lui le peuple napolitain. \nFederica Morelli – voix\nFrançois Nys – guitare\nEric Dagostino – contrebasse\nStephan Pougin – percussions\nPaolo Loveri – guitare \n\n\n20h30 – 12 € / 7 € (étudiants) \n\nSelon la limite des places disponibles\, les réservations sont vivement souhaitées via anvertreservations@gmail.com \n\n  \n 
URL:https://jazz04.be/event/alleria-pino-daniele-progett-feat-paolo-loveri/
LOCATION:L’An Vert
CATEGORIES:Concerts
ATTACH;FMTTYPE=image/jpeg:https://jazz04.be/wp-content/uploads/2023/12/408190618_374340391770380_856443993740251729_n.jpeg
END:VEVENT
END:VCALENDAR