﻿BEGIN:VCALENDAR
VERSION:2.0
PRODID:-//Jazz04 - ECPv5.3.2.1//NONSGML v1.0//EN
CALSCALE:GREGORIAN
METHOD:PUBLISH
X-WR-CALNAME:Jazz04
X-ORIGINAL-URL:https://jazz04.be
X-WR-CALDESC:évènements pour Jazz04
BEGIN:VTIMEZONE
TZID:Europe/Paris
BEGIN:DAYLIGHT
TZOFFSETFROM:+0100
TZOFFSETTO:+0200
TZNAME:CEST
DTSTART:20220327T010000
END:DAYLIGHT
BEGIN:STANDARD
TZOFFSETFROM:+0200
TZOFFSETTO:+0100
TZNAME:CET
DTSTART:20221030T010000
END:STANDARD
END:VTIMEZONE
BEGIN:VEVENT
DTSTART;TZID=Europe/Paris:20221005T190000
DTEND;TZID=Europe/Paris:20221005T233000
DTSTAMP:20260421T103942
CREATED:20220817T151625Z
LAST-MODIFIED:20220817T151625Z
UID:3417-1664996400-1665012600@jazz04.be
SUMMARY:Another Wednesday in Harlem
DESCRIPTION:Avec John Snauwaert (ts)\, Roni Ben Hur (gt)\, Filip Verneert (gt)\,  Lionel Beuvens ( dr) & Paul Flush ( Hammond organ) \n\nPendant 15ans le saxophoniste John Snauwaert et le guitariste Filip Verneert ont joué ensemble tous les mercredis dans l’établissement « De Gueus » à Gand. Ils ont tous les deux écrit leur propres compositions\, joués dans de nombreux pays et ont fait des concerts avec de nombeux artistes internationnaux.\nEn 2021\, Le guitariste americain de renom Roni Ben Hur (NY USA)\, va s’unir a John et Filip pour le projet « Another Wednesday in Harlem ».\n\nEntrée: 15€ tout public \n13€ étudiant \nL’accès aux concerts se fait SANS réservation! \n  \nOuverture du club dès 19h00\nConcert à 21h00 \n  \n\nL’accès au restaurant se fait uniquement sous réservation. \njacquespelzerjazzclub.asbl@gmail.com\nNotre confirmation en réponse fait office de réservation.\nSi le restaurant est complet\, une liste d’attente est créée.\n\nMerci de prévenir en cas de désistement\, nous pourrons ainsi proposer la place à une autre personne.
URL:https://jazz04.be/event/another-wednesday-in-harlem/
LOCATION:Jacques Pelzer Jazz Club\, Boulevard Ernest Solvay 493\, Liège\, Liège\, 4000
CATEGORIES:Concerts
ATTACH;FMTTYPE=image/png:https://jazz04.be/wp-content/uploads/2022/08/john-ok.png
ORGANIZER;CN="Jacques%20Pelzer%20Jazz%20Club":MAILTO:jacquespelzerjazzclub.asbl@gmail.com
END:VEVENT
END:VCALENDAR