﻿BEGIN:VCALENDAR
VERSION:2.0
PRODID:-//Jazz04 - ECPv5.3.2.1//NONSGML v1.0//EN
CALSCALE:GREGORIAN
METHOD:PUBLISH
X-WR-CALNAME:Jazz04
X-ORIGINAL-URL:https://jazz04.be
X-WR-CALDESC:évènements pour Jazz04
BEGIN:VTIMEZONE
TZID:Europe/Paris
BEGIN:DAYLIGHT
TZOFFSETFROM:+0100
TZOFFSETTO:+0200
TZNAME:CEST
DTSTART:20240331T010000
END:DAYLIGHT
BEGIN:STANDARD
TZOFFSETFROM:+0200
TZOFFSETTO:+0100
TZNAME:CET
DTSTART:20241027T010000
END:STANDARD
END:VTIMEZONE
BEGIN:VEVENT
DTSTART;TZID=Europe/Paris:20240412T203000
DTEND;TZID=Europe/Paris:20240412T223000
DTSTAMP:20260421T104047
CREATED:20240322T113018Z
LAST-MODIFIED:20240322T114137Z
UID:4703-1712953800-1712961000@jazz04.be
SUMMARY:ANTOINE PIERRE TRIO
DESCRIPTION:Le batteur Antoine Pierre invite\, pour une soirée exclusive\, le pianiste anglais Kit Downes (Norma Winstone\, Bill Frisell\, Squarepusher) et le bassiste danois Anders Christensen (Paul Motian\, Jakob Bro\, Tomasz Stanko).\nUn trio explosif qui explore des compositions originales ainsi que le répertoire de Broadway.\nAntoine Pierre – batterie\nKit Downes – piano\nAnders Christensen – basse \n\n\n20h30 – 12 € / 6 € (étudiants) \n\nSelon la limite des places disponibles\, les réservations sont vivement souhaitées via anvertreservations@gmail.co
URL:https://jazz04.be/event/antoine-pierre-trio/
LOCATION:L’An Vert
CATEGORIES:Concerts
ATTACH;FMTTYPE=image/png:https://jazz04.be/wp-content/uploads/2024/03/Capture-décran-2024-02-20-à-16.18.38.png
END:VEVENT
END:VCALENDAR