﻿BEGIN:VCALENDAR
VERSION:2.0
PRODID:-//Jazz04 - ECPv5.3.2.1//NONSGML v1.0//EN
CALSCALE:GREGORIAN
METHOD:PUBLISH
X-WR-CALNAME:Jazz04
X-ORIGINAL-URL:https://jazz04.be
X-WR-CALDESC:évènements pour Jazz04
BEGIN:VTIMEZONE
TZID:Europe/Paris
BEGIN:DAYLIGHT
TZOFFSETFROM:+0100
TZOFFSETTO:+0200
TZNAME:CEST
DTSTART:20250330T010000
END:DAYLIGHT
BEGIN:STANDARD
TZOFFSETFROM:+0200
TZOFFSETTO:+0100
TZNAME:CET
DTSTART:20251026T010000
END:STANDARD
END:VTIMEZONE
BEGIN:VEVENT
DTSTART;TZID=Europe/Paris:20250208T170000
DTEND;TZID=Europe/Paris:20250208T200000
DTSTAMP:20260421T104411
CREATED:20240912T100635Z
LAST-MODIFIED:20240912T100635Z
UID:4960-1739034000-1739044800@jazz04.be
SUMMARY:Apéro-Concert - The Brotherhood Blues Band
DESCRIPTION:The Brotherhood Blues Band est un cover band blues issu de la région liégeoise composé de JJ Maquet\, Jack Thysen\, Lucky Vandevelde\, Angie Cirella et tout récemment rejoint par Frédéric Dufond.\nVéritable voyage au travers des classiques du genre\, le groupe revisite à sa manière des artistes tels que John Mayall\, Taj Mahal\, Keb Mo\, Albert King\, Lowell Fulson et tant d’autres. Venez prendre l’apéro en famille en écoutant un peu de musique.\n________\n\nINFORMATIONS PRATIQUES\nLieu : Place de l’École Moyenne 9\, 4300 WaremmePrix : 10€ en prévente / 12€ sur place / 1\,25€ Art27Âge : Dès 16 ansDurée : 1h30 (2x 45min)\n________\n\nApéro / Concert blues
URL:https://jazz04.be/event/apero-concert-the-brotherhood-blues-band/
LOCATION:Passage9 [Centre culturel de Waremme]\, Place de l'Ecole Moyenne 9\, 4300 Waremme
CATEGORIES:Concerts
ATTACH;FMTTYPE=image/jpeg:https://jazz04.be/wp-content/uploads/2024/09/250208_UTICK_The-Brotherhood-Blues-Band.jpg
END:VEVENT
END:VCALENDAR