﻿BEGIN:VCALENDAR
VERSION:2.0
PRODID:-//Jazz04 - ECPv5.3.2.1//NONSGML v1.0//EN
CALSCALE:GREGORIAN
METHOD:PUBLISH
X-WR-CALNAME:Jazz04
X-ORIGINAL-URL:https://jazz04.be
X-WR-CALDESC:évènements pour Jazz04
BEGIN:VTIMEZONE
TZID:Europe/Paris
BEGIN:DAYLIGHT
TZOFFSETFROM:+0100
TZOFFSETTO:+0200
TZNAME:CEST
DTSTART:20250330T010000
END:DAYLIGHT
BEGIN:STANDARD
TZOFFSETFROM:+0200
TZOFFSETTO:+0100
TZNAME:CET
DTSTART:20251026T010000
END:STANDARD
END:VTIMEZONE
BEGIN:VEVENT
DTSTART;TZID=Europe/Paris:20250122T190000
DTEND;TZID=Europe/Paris:20250122T233000
DTSTAMP:20260421T113919
CREATED:20241230T212441Z
LAST-MODIFIED:20241230T212442Z
UID:5116-1737572400-1737588600@jazz04.be
SUMMARY:Ashtabiez
DESCRIPTION:Avec Yamen Martini (trumpet\, flugelhorn)\, Kuan Yu Chen (pn)\, Thomas Decock (gt)\, Mehrad Hezarkhani (cb) & Jelte De Cock(dr) \nAshtabiez rassemble des voix musicales distinctes à travers les compositions de Yamen Martini. Inspiré par des genres tels que le\njazz et la musique orientale et influencé par les rencontres faites au cours de ses voyages au Moyen-Orient et en Europe\, le quatuor fusionne des rythmes groovy avec des accords épicés et ajoute une touche contemporaine.\nDepuis 2022\, ses membres explorent de nouvelles voies tout en s’appuyant sur leur formation classique et jazz faisant d’Ashtabiez un projet sans frontières. Le premier single d’Ashtabiez Expressions\, est sorti en mai 2023. \n\n\n \n\n\nEntrée: 15€\n10€ étudiant\nL’accès aux concerts se fait SANS réservation! \n\nOuverture du club dès 19h00\nConcert à 21h00 \n\nL’accès au restaurant se fait uniquement sous réservation via mail:\njacquespelzerjazzclub.asbl@gmail.com\nNotre confirmation en réponse\, par mail\, fait office de réservation.
URL:https://jazz04.be/event/ashtabiez/
LOCATION:Jacques Pelzer Jazz Club\, Boulevard Ernest Solvay 493\, Liège\, Liège\, 4000
CATEGORIES:Concerts
ATTACH;FMTTYPE=image/jpeg:https://jazz04.be/wp-content/uploads/2024/12/Ashtabiez.jpeg
ORGANIZER;CN="Jacques%20Pelzer%20Jazz%20Club":MAILTO:jacquespelzerjazzclub.asbl@gmail.com
END:VEVENT
END:VCALENDAR