﻿BEGIN:VCALENDAR
VERSION:2.0
PRODID:-//Jazz04 - ECPv5.3.2.1//NONSGML v1.0//EN
CALSCALE:GREGORIAN
METHOD:PUBLISH
X-WR-CALNAME:Jazz04
X-ORIGINAL-URL:https://jazz04.be
X-WR-CALDESC:évènements pour Jazz04
BEGIN:VTIMEZONE
TZID:Europe/Paris
BEGIN:DAYLIGHT
TZOFFSETFROM:+0100
TZOFFSETTO:+0200
TZNAME:CEST
DTSTART:20220327T010000
END:DAYLIGHT
BEGIN:STANDARD
TZOFFSETFROM:+0200
TZOFFSETTO:+0100
TZNAME:CET
DTSTART:20221030T010000
END:STANDARD
END:VTIMEZONE
BEGIN:VEVENT
DTSTART;TZID=Europe/Paris:20221130T201500
DTEND;TZID=Europe/Paris:20221130T223000
DTSTAMP:20260421T160136
CREATED:20220810T152601Z
LAST-MODIFIED:20221103T091955Z
UID:3384-1669839300-1669847400@jazz04.be
SUMMARY:Bam ! Trio
DESCRIPTION:J a Z Z\nAutour de cet instrument mythique qu’est l’orgue\nHammond\, naît BAM Trio. Du Jazz ? Oui mais pas que.\nLe groove\, le rock\, la soul et les ballades ensorcelantes sont\nla matière première de cette décoction explosive.\nUn cocktail universel préparé dans la robuste marmite de\nl’amitié.\nBAM\, c’est la rumeur des corps qui s’entrechoquent. Ici les\ncorps sont esprits et le vacarme est musique. C’est en 2017\nque la détonation produit son fruit. Le fruit de la rencontre\nentre trois artistes singulier\, venus des quatre coins de la\nWallonie. Le BAM! Trio vient vous présenter son premier\nalbum ONE ainsi que des reprises remaniées à la sauce\nBAM!\nAvec Bastien Jeunieaux\, guitare – Maxime Moyaerts\, orgue\n– Arnaud Cabay\, batterie.\nhttps://www.facebook.com/bamtriofficiel\nUne collaboration entre le Foyer culturel de Sprimont\, les Jeunesses Musicales de Liège et Les Lundis d’Hortense dans le cadre du Jazz Tour.
URL:https://jazz04.be/event/b-a-m-t-r-i-o/
LOCATION:Foyer culturel Sprimont\, Rue du Centre 81\, 4140 Sprimont
CATEGORIES:Concerts
ATTACH;FMTTYPE=image/jpeg:https://jazz04.be/wp-content/uploads/2022/08/22.11.30.jpg
ORGANIZER;CN="Foyer%20culturel%20Sprimont":MAILTO:info@foyer-culturel-sprimont.be
END:VEVENT
END:VCALENDAR