﻿BEGIN:VCALENDAR
VERSION:2.0
PRODID:-//Jazz04 - ECPv5.3.2.1//NONSGML v1.0//EN
CALSCALE:GREGORIAN
METHOD:PUBLISH
X-WR-CALNAME:Jazz04
X-ORIGINAL-URL:https://jazz04.be
X-WR-CALDESC:évènements pour Jazz04
BEGIN:VTIMEZONE
TZID:Europe/Paris
BEGIN:DAYLIGHT
TZOFFSETFROM:+0100
TZOFFSETTO:+0200
TZNAME:CEST
DTSTART:20220327T010000
END:DAYLIGHT
BEGIN:STANDARD
TZOFFSETFROM:+0200
TZOFFSETTO:+0100
TZNAME:CET
DTSTART:20221030T010000
END:STANDARD
END:VTIMEZONE
BEGIN:VEVENT
DTSTART;TZID=Europe/Paris:20220625T203000
DTEND;TZID=Europe/Paris:20220625T223000
DTSTAMP:20260421T131918
CREATED:20220531T093536Z
LAST-MODIFIED:20220531T093536Z
UID:3303-1656189000-1656196200@jazz04.be
SUMMARY:BAM! Trio
DESCRIPTION:Autour de cet instrument mythique qu’est l’orgue Hammond\, naît BAM! Trio. Du\nJazz ? Oui mais pas que. Le groove\, le rock\, la soul et les ballades ensorcelantes sont la\nmatière première de cette décoction explosive. Un cocktail universel préparé dans la\nrobuste marmite de l’amitié. Le BAM! Trio vient vous présenter son premier album ONE\nainsi que des reprises remaniées à la sauce BAM!\nAvec : Bastien Jeunieaux: (guitare)\, Arnaud Cabay (batterie) \, Maxime Moyaerts (Orgue Hammond)\nwww.bamtrio.net\nPaf : 10 euros\nRéservations : aquiloneinfo@gmail.com
URL:https://jazz04.be/event/bam-trio-4/
LOCATION:Aquilone\, Boulevard Saucy 25\, 4020 Liège
CATEGORIES:Concerts
ATTACH;FMTTYPE=image/jpeg:https://jazz04.be/wp-content/uploads/2022/05/marnitheater-fe871f447afaf30789b45f1f3a49b07654da478e-1.jpg
END:VEVENT
END:VCALENDAR