﻿BEGIN:VCALENDAR
VERSION:2.0
PRODID:-//Jazz04 - ECPv5.3.2.1//NONSGML v1.0//EN
CALSCALE:GREGORIAN
METHOD:PUBLISH
X-WR-CALNAME:Jazz04
X-ORIGINAL-URL:https://jazz04.be
X-WR-CALDESC:évènements pour Jazz04
BEGIN:VTIMEZONE
TZID:Europe/Paris
BEGIN:DAYLIGHT
TZOFFSETFROM:+0100
TZOFFSETTO:+0200
TZNAME:CEST
DTSTART:20210328T010000
END:DAYLIGHT
BEGIN:STANDARD
TZOFFSETFROM:+0200
TZOFFSETTO:+0100
TZNAME:CET
DTSTART:20211031T010000
END:STANDARD
END:VTIMEZONE
BEGIN:VEVENT
DTSTART;TZID=Europe/Paris:20210619T133000
DTEND;TZID=Europe/Paris:20210619T143000
DTSTAMP:20260421T135417
CREATED:20210531T135848Z
LAST-MODIFIED:20210604T113654Z
UID:2487-1624109400-1624113000@jazz04.be
SUMMARY:ça percute : atelier musical dès 9 ans
DESCRIPTION:Entre rythmique et découverte (djembé\, derbouka\, conga)\, une initiation aux percussions à travers un atelier musical ouvert à toutes et tous dès 9 ans. Une proposition des Ateliers04\, accessible sur inscription.
URL:https://jazz04.be/event/ca-percute-atelier-musical-des-9-ans/
LOCATION:place des Carmes\, liège\, liège\, 4000\, Belgique
CATEGORIES:Autres
ATTACH;FMTTYPE=image/jpeg:https://jazz04.be/wp-content/uploads/2021/05/affiche-21-web.jpg
ORGANIZER;CN="La%20Maison%20du%20Jazz":MAILTO:jazz@skynet.be
END:VEVENT
END:VCALENDAR