﻿BEGIN:VCALENDAR
VERSION:2.0
PRODID:-//Jazz04 - ECPv5.3.2.1//NONSGML v1.0//EN
CALSCALE:GREGORIAN
METHOD:PUBLISH
X-WR-CALNAME:Jazz04
X-ORIGINAL-URL:https://jazz04.be
X-WR-CALDESC:évènements pour Jazz04
BEGIN:VTIMEZONE
TZID:Europe/Paris
BEGIN:DAYLIGHT
TZOFFSETFROM:+0100
TZOFFSETTO:+0200
TZNAME:CEST
DTSTART:20240331T010000
END:DAYLIGHT
BEGIN:STANDARD
TZOFFSETFROM:+0200
TZOFFSETTO:+0100
TZNAME:CET
DTSTART:20241027T010000
END:STANDARD
END:VTIMEZONE
BEGIN:VEVENT
DTSTART;TZID=Europe/Paris:20241025T203000
DTEND;TZID=Europe/Paris:20241025T203000
DTSTAMP:20260421T104155
CREATED:20240820T123339Z
LAST-MODIFIED:20240820T124845Z
UID:4916-1729888200-1729888200@jazz04.be
SUMMARY:Christine Ott & Manu Hermia
DESCRIPTION:En première partie\, Sigrid Vandenbogaerde présentera les « Fluid flutes for cello » en solo\, composées par Manuel Hermia à partir des Rajazz.\n\n\n\nhttps://manuelhermia.com/projets/rajazz/fluid-flutes-for-cello/\n\n\n\nEn seconde partie\, Manu Hermia et Christine Ott\, aux Ondes Martenot\, présenteront « The Lotus Path » \, un répertoire écrit pour ce duo à l’occasion du Gaume jazz festival de 2023\, et enregistré en live. The Lotus Path\, c’est la Voie du Lotus\, une référence à la résiliation\, en la transformation de toutes choses. La musique est ici particulièrement organique. Le tout est également composé à partir des « rajazz » créés par Manu Hermia.\n\n\nhttps://manuelhermia.com/projets/rajazz/the-lotus-path/\n\n\nSigrid Vandenbogaerde – violoncelle\nManuel Hermia – bansuri\, saxophone\, flûte\nChristine Ott – ondes Martenot
URL:https://jazz04.be/event/christine-ott-manu-hermia/
LOCATION:L’An Vert
CATEGORIES:Concerts
ATTACH;FMTTYPE=image/jpeg:https://jazz04.be/wp-content/uploads/2024/08/Christine-Ott-credit-Jean-Pierre-Rosenkranz-1-scaled.jpg
ORGANIZER;CN="l%27An%20Vert":MAILTO:info@lanvert.be
END:VEVENT
END:VCALENDAR