﻿BEGIN:VCALENDAR
VERSION:2.0
PRODID:-//Jazz04 - ECPv5.3.2.1//NONSGML v1.0//EN
CALSCALE:GREGORIAN
METHOD:PUBLISH
X-WR-CALNAME:Jazz04
X-ORIGINAL-URL:https://jazz04.be
X-WR-CALDESC:évènements pour Jazz04
BEGIN:VTIMEZONE
TZID:Europe/Paris
BEGIN:DAYLIGHT
TZOFFSETFROM:+0100
TZOFFSETTO:+0200
TZNAME:CEST
DTSTART:20230326T010000
END:DAYLIGHT
BEGIN:STANDARD
TZOFFSETFROM:+0200
TZOFFSETTO:+0100
TZNAME:CET
DTSTART:20231029T010000
END:STANDARD
END:VTIMEZONE
BEGIN:VEVENT
DTSTART;TZID=Europe/Paris:20230721T210000
DTEND;TZID=Europe/Paris:20230721T223000
DTSTAMP:20260421T115347
CREATED:20230622T130820Z
LAST-MODIFIED:20230622T130820Z
UID:4197-1689973200-1689978600@jazz04.be
SUMMARY:Concert El hassan Chatar
DESCRIPTION:  \nPeut-on encore chanter la Paix aujourd’hui ? El Hassan Chatar l’affirme haut et fort. Avec une musique qui est le fruit d’un long travail mélodique et poétique\, en pleine empathie avec ceux qui subissent guerres et terrorismes. Ce spectacle réunira pour la première fois un quintet inédit : le virtuose Rhonny Ventat au saxophone\, Mimi Verderame à la batterie\, André Klenes à la contrebasse\, Stéphane Martini à la guitare harmonique\, pour accompagner El Hassan Chatar au chant et à la guitare. \nPrix d’entrée : 11 Eur – abonnement 8 concerts : 72 eur\nPlaces en prévente à partir du 28 juin \nAvec l’aide des Affaires culturelles de la Province de Liège et de la Première
URL:https://jazz04.be/event/concert-el-hassan-chatar/
LOCATION:Brasserie Sauvenière\, Place Xavier-Neujean\, 12\, Liège\, Liège\, 4000\, Belgique
CATEGORIES:Concerts
ATTACH;FMTTYPE=image/jpeg:https://jazz04.be/wp-content/uploads/2023/06/230721_el_hassan_chattar_concert_brasserie_zebrixfb_og.jpeg
END:VEVENT
END:VCALENDAR