﻿BEGIN:VCALENDAR
VERSION:2.0
PRODID:-//Jazz04 - ECPv5.3.2.1//NONSGML v1.0//EN
CALSCALE:GREGORIAN
METHOD:PUBLISH
X-WR-CALNAME:Jazz04
X-ORIGINAL-URL:https://jazz04.be
X-WR-CALDESC:évènements pour Jazz04
BEGIN:VTIMEZONE
TZID:Europe/Paris
BEGIN:DAYLIGHT
TZOFFSETFROM:+0100
TZOFFSETTO:+0200
TZNAME:CEST
DTSTART:20230326T010000
END:DAYLIGHT
BEGIN:STANDARD
TZOFFSETFROM:+0200
TZOFFSETTO:+0100
TZNAME:CET
DTSTART:20231029T010000
END:STANDARD
END:VTIMEZONE
BEGIN:VEVENT
DTSTART;TZID=Europe/Paris:20230707T210000
DTEND;TZID=Europe/Paris:20230707T223000
DTSTAMP:20260423T104837
CREATED:20230622T111943Z
LAST-MODIFIED:20230622T112006Z
UID:4194-1688763600-1688769000@jazz04.be
SUMMARY:Concert Marc Frankinet Quartet
DESCRIPTION:« Marc Frankinet a réuni ces trois musiciens avec l’idée de revisiter des compositions de jazzmen liégeois\, pur jus ou d’adoption\, qui ont marqué l’histoire de cette little « provincial town » et bien au-delà. On y retrouve une dizaine de pièces\, pas nécessairement les plus connues\, avec un lot d’heureuses surprises. A découvrir ardemment! » (Maison du jazz) \nMarc Frankinet : Trompette et Buggle\nJacques Pirotton :  guitar\nAntoine Cirri : batterie\nBenoit Vanderstraeten : basse \nhttps://www.marcfrankinet.com/new-quartet \nPrix d’entrée : 12 Eur – abonnement 8 concerts : 72 eur\nPlaces en prévente à partir du 28 juin \nAvec l’aide des Affaires culturelles de la Province de Liège et de la Première
URL:https://jazz04.be/event/concert-marc-frankinet-quartet-2/
LOCATION:Brasserie Sauvenière\, Place Xavier-Neujean\, 12\, Liège\, Liège\, 4000\, Belgique
CATEGORIES:Concerts
ATTACH;FMTTYPE=image/jpeg:https://jazz04.be/wp-content/uploads/2023/06/230707_marc_frankinet_concert_brasserie_zebrixfb_og.jpeg
END:VEVENT
END:VCALENDAR