﻿BEGIN:VCALENDAR
VERSION:2.0
PRODID:-//Jazz04 - ECPv5.3.2.1//NONSGML v1.0//EN
CALSCALE:GREGORIAN
METHOD:PUBLISH
X-WR-CALNAME:Jazz04
X-ORIGINAL-URL:https://jazz04.be
X-WR-CALDESC:évènements pour Jazz04
BEGIN:VTIMEZONE
TZID:Europe/Paris
BEGIN:DAYLIGHT
TZOFFSETFROM:+0100
TZOFFSETTO:+0200
TZNAME:CEST
DTSTART:20240331T010000
END:DAYLIGHT
BEGIN:STANDARD
TZOFFSETFROM:+0200
TZOFFSETTO:+0100
TZNAME:CET
DTSTART:20241027T010000
END:STANDARD
END:VTIMEZONE
BEGIN:VEVENT
DTSTART;TZID=Europe/Paris:20240920T210000
DTEND;TZID=Europe/Paris:20240920T230000
DTSTAMP:20260425T190605
CREATED:20240724T124838Z
LAST-MODIFIED:20240724T124838Z
UID:4874-1726866000-1726873200@jazz04.be
SUMMARY:Concerts Jazz&More: Stephan POUGIN solo
DESCRIPTION:En solo\, Stephan Pougin\, décline la percussion à l’infini permettant aux divers instruments et objets qui lui passent entre les doigts de résonner en musique! \nAvec plus d’une septantaine d’albums derrière lui\, ce percussionniste des plus éclectiques se nourrit de rencontres et de partages insufflant à sa musique \ndes rythmes venus d’Afrique\, des Balkans ou encore du Brésil. Il n’entre en effet dans aucun paradigme\, passant du jazz au classique et du folk à la bossa nova. \nPassion\, feeling et transmission d’énergies au programme de ce voyage initiatique. Welcome!
URL:https://jazz04.be/event/concerts-jazzmore-stephan-pougin-solo/
LOCATION:Jacques Pelzer Jazz Club\, Boulevard Ernest Solvay 493\, Liège\, Liège\, 4000
ATTACH;FMTTYPE=image/jpeg:https://jazz04.be/wp-content/uploads/2024/07/BANDEAU-FB-POUGIN.jpg
ORGANIZER;CN="Maison%20du%20Jazz":MAILTO:lamaisondujazz@gmail.com
END:VEVENT
END:VCALENDAR