﻿BEGIN:VCALENDAR
VERSION:2.0
PRODID:-//Jazz04 - ECPv5.3.2.1//NONSGML v1.0//EN
CALSCALE:GREGORIAN
METHOD:PUBLISH
X-WR-CALNAME:Jazz04
X-ORIGINAL-URL:https://jazz04.be
X-WR-CALDESC:évènements pour Jazz04
BEGIN:VTIMEZONE
TZID:Europe/Paris
BEGIN:DAYLIGHT
TZOFFSETFROM:+0100
TZOFFSETTO:+0200
TZNAME:CEST
DTSTART:20250330T010000
END:DAYLIGHT
BEGIN:STANDARD
TZOFFSETFROM:+0200
TZOFFSETTO:+0100
TZNAME:CET
DTSTART:20251026T010000
END:STANDARD
END:VTIMEZONE
BEGIN:VEVENT
DTSTART;TZID=Europe/Paris:20250212T190000
DTEND;TZID=Europe/Paris:20250212T230000
DTSTAMP:20260421T103930
CREATED:20250119T202623Z
LAST-MODIFIED:20250119T202624Z
UID:5167-1739386800-1739401200@jazz04.be
SUMMARY:Daniel Stokart Quartet
DESCRIPTION:Avec Daniel Stokart (sax s & cl b)\, Martin Salemi (pn)\, Manolo Cabras (cb)\,Joao Lobo (dr) \n  \nCe nouveau projet qui joue les compositions du saxophoniste Daniel Stokart est composé de Martin Salemi au piano\, Manolo Cabras à la basse et Joao Lobo à la batterie . Daniel Stokart y joue essentiellement du saxophone soprano\, mais également du saxophone ténor et des instruments issus de la musique du monde (Hulusi\, Duclar…) \nL’univers proposé par le saxophoniste\, est inspiré par le jazz moderne européen (ECM)\, la musique classique\, le free-jazz \, le jazz traditionnel\, la musique répétitive… \nAvec des influences modales\, blues\, ou issues de la musique du monde\, ce projet fait la part belle aux improvisations et aux thèmes lyriques\, jouant sur les contrastes entre des atmosphères  éthérées et des improvisations parfois débridées . \nC’est une musique pleine de nuances\, tantôt très fouillée\, tantôt très dépouillée\, un savant mixage entre travail d’écriture et improvisation  …  \n  \nEntrée: 12€ tout public \n10€ étudiant \nL’accès aux concerts se fait SANS réservation! \n  \nOuverture du club dès 19h00\nConcert à 21h00 \n\nL’accès au restaurant se fait uniquement sous réservation.\njacquespelzerjazzclub.asbl@gmail.com\nNotre confirmation en réponse fait office de réservation.
URL:https://jazz04.be/event/daniel-stokart-quartet-2/
LOCATION:Jacques Pelzer Jazz Club\, Boulevard Ernest Solvay 493\, Liège\, Liège\, 4000
CATEGORIES:Concerts
ATTACH;FMTTYPE=image/jpeg:https://jazz04.be/wp-content/uploads/2025/01/daniel_stokart_quartet_portrait_3_large-scaled.jpg
END:VEVENT
END:VCALENDAR