﻿BEGIN:VCALENDAR
VERSION:2.0
PRODID:-//Jazz04 - ECPv5.3.2.1//NONSGML v1.0//EN
CALSCALE:GREGORIAN
METHOD:PUBLISH
X-WR-CALNAME:Jazz04
X-ORIGINAL-URL:https://jazz04.be
X-WR-CALDESC:évènements pour Jazz04
BEGIN:VTIMEZONE
TZID:Europe/Paris
BEGIN:DAYLIGHT
TZOFFSETFROM:+0100
TZOFFSETTO:+0200
TZNAME:CEST
DTSTART:20220327T010000
END:DAYLIGHT
BEGIN:STANDARD
TZOFFSETFROM:+0200
TZOFFSETTO:+0100
TZNAME:CET
DTSTART:20221030T010000
END:STANDARD
END:VTIMEZONE
BEGIN:VEVENT
DTSTART;TZID=Europe/Paris:20221015T200000
DTEND;TZID=Europe/Paris:20221015T220000
DTSTAMP:20260421T160218
CREATED:20220914T145434Z
LAST-MODIFIED:20220922T135828Z
UID:3518-1665864000-1665871200@jazz04.be
SUMMARY:DANIELE MARTINI & JOZEF DUMOULIN
DESCRIPTION:Daniele Martini est un saxophoniste éclectique qui se démarque autant dans le jazz que dans l’expérimentation sonore extrême. Ses différentes connections l’ont amené à jouer  avec d’illustres musiciens en musiques improvisées (Nate Wooley\, Fred Lonberg-Holm\, Chris Corsano…) en Afro-beat (Tony Allen\, Oghene Kologbo…) et en jazz avec son excellent quatuor accompagné de Bram de Looze\, Manolo Cabras et João Lobo. \nIl sera accompagné par son ami Jozef Dumoulin\, l’un des pionniers les plus inventifs de son genre\, sorcier du piano\, magicien du clavier ou spécialiste du Fender Rhodes tel qu’il est unanimement qualifié. En tant que musicien\, Dumoulin est connu pour être capable de maintenir sa propre voix dans tous les contextes musicaux\, que ce soit le jazz traditionnel\, la musique improvisée\, la musique pop ou la musique contemporaine. \n\n20h – 10 € / 7 € (demandeurs d’emploi) / 5 € (étudiants) \n\nSelon la limite des places disponibles\, les réservations sont vivement souhaitées via reservations@lanvert.be
URL:https://jazz04.be/event/daniele-martini-jozef-dumoulin/
LOCATION:L’An Vert
CATEGORIES:Concerts
ATTACH;FMTTYPE=image/jpeg:https://jazz04.be/wp-content/uploads/2022/09/martini-1.jpg
END:VEVENT
END:VCALENDAR