﻿BEGIN:VCALENDAR
VERSION:2.0
PRODID:-//Jazz04 - ECPv5.3.2.1//NONSGML v1.0//EN
CALSCALE:GREGORIAN
METHOD:PUBLISH
X-WR-CALNAME:Jazz04
X-ORIGINAL-URL:https://jazz04.be
X-WR-CALDESC:évènements pour Jazz04
BEGIN:VTIMEZONE
TZID:Europe/Paris
BEGIN:DAYLIGHT
TZOFFSETFROM:+0100
TZOFFSETTO:+0200
TZNAME:CEST
DTSTART:20200329T010000
END:DAYLIGHT
BEGIN:STANDARD
TZOFFSETFROM:+0200
TZOFFSETTO:+0100
TZNAME:CET
DTSTART:20201025T010000
END:STANDARD
END:VTIMEZONE
BEGIN:VEVENT
DTSTART;TZID=Europe/Paris:20200212T210000
DTEND;TZID=Europe/Paris:20200212T233000
DTSTAMP:20260421T175301
CREATED:20200121T113636Z
LAST-MODIFIED:20200121T120350Z
UID:1729-1581541200-1581550200@jazz04.be
SUMMARY:Darren Beckett Trio
DESCRIPTION:Avec Stéphane Mercier (sax alto)\, Nic Thys (cb)\, Darren Beckett (dr) \n\nC’est à Brooklyn dans les années 90 qu’ont vécu les trois musiciens de ce trio. Darren Beckett a passé une bonne vingtaine d’années aux Etats-Unis avant de revenir près de chez lui\, en Irlande et en Angleterre. Il a joué avec les plus grands du jazz (Madeleine Peyroux\, Lee Konitz\, Kenny Wheeler\, Mark Turner\, …) mais aussi du rock (the Killers\, Brandon Flowers\,…). Son style de batterie se situe entre un jeune Tony Williams (Miles Davis) fougueux et un swingueur façon Jeff « Tain » Watts (Wynton Marsalis). Avec quelques reprises et des originaux\, le public prendra un réel plaisir à découvrir les possibilités multiples et créatives qu’offre ce trio.\n\n\n\n\n\n\nEntrée: 5 / 7 euros \n\n\n\n\n\n\n\n\n\n\nOuverture du club et du restaurant dès 19h.\nL’accès au concert se fait sans réservation.\nLes réservations concernent le restaurant et se font uniquement par mail via l’adresse:  jacquespelzerjazzclub.asbl@gmail.com
URL:https://jazz04.be/event/darren-beckett-trio/
LOCATION:Jacques Pelzer Jazz Club\, Boulevard Ernest Solvay 493\, Liège\, Liège\, 4000
CATEGORIES:Concerts
ATTACH;FMTTYPE=image/jpeg:https://jazz04.be/wp-content/uploads/2020/01/Darren-Beckett-trio.jpg
END:VEVENT
END:VCALENDAR