﻿BEGIN:VCALENDAR
VERSION:2.0
PRODID:-//Jazz04 - ECPv5.3.2.1//NONSGML v1.0//EN
CALSCALE:GREGORIAN
METHOD:PUBLISH
X-WR-CALNAME:Jazz04
X-ORIGINAL-URL:https://jazz04.be
X-WR-CALDESC:évènements pour Jazz04
BEGIN:VTIMEZONE
TZID:Europe/Paris
BEGIN:DAYLIGHT
TZOFFSETFROM:+0100
TZOFFSETTO:+0200
TZNAME:CEST
DTSTART:20230326T010000
END:DAYLIGHT
BEGIN:STANDARD
TZOFFSETFROM:+0200
TZOFFSETTO:+0100
TZNAME:CET
DTSTART:20231029T010000
END:STANDARD
END:VTIMEZONE
BEGIN:VEVENT
DTSTART;TZID=Europe/Paris:20230308T190000
DTEND;TZID=Europe/Paris:20230308T233000
DTSTAMP:20260421T160319
CREATED:20221223T140233Z
LAST-MODIFIED:20230109T104209Z
UID:3819-1678302000-1678318200@jazz04.be
SUMMARY:David Hazeltine Trio feat. Jim Rotondi “Dedicated To The Giants Of Jaz"
DESCRIPTION:Avec Jim Rotondi (tpt)\, David Hazeltine (pn)\, Aldo Zunino (bass) & Bernd Reiter (dr)\n \nLe pianiste David Hazeltine est une star absolue de la scène new-yorkaise. Il a commencé sa carrière professionnelle à l’âge de 13 ans dans la région de Chicago\, en tant que pianiste résident à la Jazz Gallery de Milwaukee.\nDans cette institution\, il a eu l’opportunité d’accompagner des musiciens comme Sonny Stitt\, Pepper Adams\, Charles McPherson\, Al Cohn\, Lou Donaldson\, Eddie Harris et Chet Baker. Ce dernier le convainc en 1981 de venir à New York pour la première fois.\nEn 1992\, il s’installe enfin dans la Grosse Pomme.\n\nAu cours des années suivantes\, il travaille avec Curtis Fuller\, Junior Cook\, Jon Hendricks\, Louis Hayes\, Peter\nWashington\, Joe Locke\, Jon Faddis\, James Moody\, Jim Snidero\, John Swana et le sextet de hard bop « One for All ».\n\n \nPour cette tournée\, il sera accompagné par l’un des duos basse-batterie les plus réputés d’Europe:\nAldo Zunino est l’un des bassistes les plus demandés depuis plus de trois décennies. Il a notamment joué avec Jimmy Cobb\, Clark Terry\, Benny Bailey\, Benny Golson\, Lee Konitz\, Joey De Francesco\, Scott Hamilton et bien d’autres.\nLe batteur autrichien Bernd Reiter a déjà accompagné de nombreux grands noms du jazz tels que Don Menza\,\n \nCharles Davis\, Harold Mabern\, Cyrus Chestnut\, Kirk Lightsey\, Jim Rotondi\, Joe Magnarelli\, Gary Smulyan\, etc.\n\n \nLe trio invite le trompettiste new-yorkais Jim Rotondi\, compagnon musical de longue date de David Hazeltine\, pour ce concert.\nCe quartet est dédié à l’héritage musical des grands maîtres du jazz avec beaucoup de respect et d’admiration. Ensemble\, les quatre musiciens suivent leur passion musicale\, le jazz classique et swinguant de leurs modèles tels que Cedar Walton\, Steve Grossman ou Freddie Hubbard.\n\n \nLe projet offre une musique énergique et swinguante au plus haut niveau.\nTout simplement « Jazz at its Best » !!!  \n\n \n\nEntrée: 15€ tout public \n13€ étudiant \nL’accès aux concerts se fait SANS réservation! \n  \nOuverture du club dès 19h00\nConcert à 21h00 \n  \n\nL’accès au restaurant se fait uniquement sous réservation. \njacquespelzerjazzclub.asbl@gmail.com\nNotre confirmation en réponse fait office de réservation.
URL:https://jazz04.be/event/david-hazeltine-trio-feat-jim-rotondi-dedicated-to-the-giants-of-jaz/
LOCATION:Jacques Pelzer Jazz Club\, Boulevard Ernest Solvay 493\, Liège\, Liège\, 4000
CATEGORIES:Concerts
ATTACH;FMTTYPE=image/jpeg:https://jazz04.be/wp-content/uploads/2022/12/David_1-scaled.jpg
ORGANIZER;CN="Jacques%20Pelzer%20Jazz%20Club":MAILTO:jacquespelzerjazzclub.asbl@gmail.com
END:VEVENT
END:VCALENDAR