﻿BEGIN:VCALENDAR
VERSION:2.0
PRODID:-//Jazz04 - ECPv5.3.2.1//NONSGML v1.0//EN
CALSCALE:GREGORIAN
METHOD:PUBLISH
X-WR-CALNAME:Jazz04
X-ORIGINAL-URL:https://jazz04.be
X-WR-CALDESC:évènements pour Jazz04
BEGIN:VTIMEZONE
TZID:Europe/Paris
BEGIN:DAYLIGHT
TZOFFSETFROM:+0100
TZOFFSETTO:+0200
TZNAME:CEST
DTSTART:20200329T010000
END:DAYLIGHT
BEGIN:STANDARD
TZOFFSETFROM:+0200
TZOFFSETTO:+0100
TZNAME:CET
DTSTART:20201025T010000
END:STANDARD
END:VTIMEZONE
BEGIN:VEVENT
DTSTART;TZID=Europe/Paris:20200325T210000
DTEND;TZID=Europe/Paris:20200325T233000
DTSTAMP:20260421T115234
CREATED:20200214T192717Z
LAST-MODIFIED:20200317T151152Z
UID:1829-1585170000-1585179000@jazz04.be
SUMMARY:Annulation (Covid-19) - Don Menza Quartet « The Rose »
DESCRIPTION:Avec Don Menza (tenor sax)\, Dan Nicholas (gt)\, Marius Beets (bass)\, Bernd Reiter (dr) \nLe très talentueux saxophoniste américain Don Menza fête ses 80 ans ! Compositeur et arrangeur\, musicien de session et professeur de jazz connu pour ses nombreuses contributions au jazz américain et à la musique big band. Ses compositions\, comme Groovin Hard et Time Check\, sont devenues un répertoire standard dans les programmes d’études de jazz des collèges et des universités du monde entier. Le guitariste Dan Nicholas est originaire de New York mais opère à La Haye depuis 200. Marius Beets est l’un des bassistes les plus demandés aux Pays-Bas et dans les pays voisins. Le batteur autrichien Bernd Reiter vit à Paris et travaille avec Don Menza depuis près de 10 ans dans divers projets. \n\n\n\n\n\nEntrée: 7/10€ \n\n\n\n\n\n\n\n\n\n\nOuverture du club et du restaurant dès 19h.\nL’accès au concert se fait sans réservation.\nLes réservations concernent le restaurant et se font uniquement par mail via l’adresse:  jacquespelzerjazzclub.asbl@gmail.com
URL:https://jazz04.be/event/don-menza-quartet-the-rose/
CATEGORIES:Concerts
ATTACH;FMTTYPE=image/jpeg:https://jazz04.be/wp-content/uploads/2020/02/Don_Menza_3.jpg
ORGANIZER;CN="Jacques%20Pelzer%20Jazz%20Club":MAILTO:jacquespelzerjazzclub.asbl@gmail.com
END:VEVENT
END:VCALENDAR