﻿BEGIN:VCALENDAR
VERSION:2.0
PRODID:-//Jazz04 - ECPv5.3.2.1//NONSGML v1.0//EN
CALSCALE:GREGORIAN
METHOD:PUBLISH
X-WR-CALNAME:Jazz04
X-ORIGINAL-URL:https://jazz04.be
X-WR-CALDESC:évènements pour Jazz04
BEGIN:VTIMEZONE
TZID:Europe/Paris
BEGIN:DAYLIGHT
TZOFFSETFROM:+0100
TZOFFSETTO:+0200
TZNAME:CEST
DTSTART:20200329T010000
END:DAYLIGHT
BEGIN:STANDARD
TZOFFSETFROM:+0200
TZOFFSETTO:+0100
TZNAME:CET
DTSTART:20201025T010000
END:STANDARD
END:VTIMEZONE
BEGIN:VEVENT
DTSTART;TZID=Europe/Paris:20200321T201500
DTEND;TZID=Europe/Paris:20200321T220000
DTSTAMP:20260421T143518
CREATED:20200302T121100Z
LAST-MODIFIED:20200317T151048Z
UID:1949-1584821700-1584828000@jazz04.be
SUMMARY:Annulation (Covid-19) - Ekko Trio
DESCRIPTION:La trompette d’Antoine Dawans et le diatonique de Pablo Golder se sont réunis autour de la mandoline de Lorcan Fahy. Un son organique en perpétuelle évolution\, aux accents folk de l’un\, Irish de l’autre\, jazz du troisième… Un Groove imperturbable\, des mélodies pleines d’énergie… \n« Ekko Trio\, c’est trois en un\, un à trois\, trois fois un\, une fois trois… Ces trois ne font qu’un\, sans leader ; trois solistes pour un trio\, trois solos pour un seul son. Ces musiciens se sont rencontrés par hasard\, lequel fait décidément bien les choses. Il est vrai qu’il n’est guère fréquent de s’autoriser un mariage à trois entre mandoline\, accordéon diatonique et trompette. \nOù sont-ils donc allés chercher cette idée ? (…) Ekko est né on ne peut plus naturellement de l’envie de festoyer musicalement en mélangeant d’un même élan des sons et des goûts d’origines différentes. La planète Ekko est commune à trois galaxies. L’un est à Gand\, l’autre à Bruxelles\, le troisième à Liège. Leurs caractères diffèrent\, leurs origines et influences tout autant. Aux parfums d’Irlande se mêlent ceux de l’Italie et quelques fragrances germaniques. \nQu’importe du moment qu’on a l’ivresse et l’inventivité instantanée qu’elle donne aux doigts et au souffle. Les doigts de la mandoline au profit de notes pétillantes\, le souffle de la trompette ciselé grâce aux doigts sur les pistons\, les doigts encore sur les deux côtés de l’accordéon qui ne serait rien s’il n’était conduit par le souffle. Et le soufflé de cette musique gonfle\, il prend\, il se dore\, il est velouté et croustillant à la fois. Sacrés cuisiniers que ces trois gaillards : Lorcan Fahy\, Pablo Golder et Antoine Dawans ! » \nEtienne Bours \n 
URL:https://jazz04.be/event/ekko-trio/
LOCATION:Centre culturel de Flémalle\, Rue du Beau Site 25\, Flémalle\, Liège\, 4400\, Belgique
CATEGORIES:Concerts
ATTACH;FMTTYPE=image/jpeg:https://jazz04.be/wp-content/uploads/2020/03/Photo-Ekko-3_site.jpg
ORGANIZER;CN="Centre%20culturel%20de%20Fl%C3%A9malle":MAILTO:paul@ccflemalle.be
END:VEVENT
END:VCALENDAR