﻿BEGIN:VCALENDAR
VERSION:2.0
PRODID:-//Jazz04 - ECPv5.3.2.1//NONSGML v1.0//EN
CALSCALE:GREGORIAN
METHOD:PUBLISH
X-WR-CALNAME:Jazz04
X-ORIGINAL-URL:https://jazz04.be
X-WR-CALDESC:évènements pour Jazz04
BEGIN:VTIMEZONE
TZID:Europe/Paris
BEGIN:DAYLIGHT
TZOFFSETFROM:+0100
TZOFFSETTO:+0200
TZNAME:CEST
DTSTART:20240331T010000
END:DAYLIGHT
BEGIN:STANDARD
TZOFFSETFROM:+0200
TZOFFSETTO:+0100
TZNAME:CET
DTSTART:20241027T010000
END:STANDARD
END:VTIMEZONE
BEGIN:VEVENT
DTSTART;TZID=Europe/Paris:20240406T203000
DTEND;TZID=Europe/Paris:20240406T223000
DTSTAMP:20260425T230130
CREATED:20240312T172746Z
LAST-MODIFIED:20240312T172746Z
UID:4678-1712435400-1712442600@jazz04.be
SUMMARY:ELIOTT KNUETS QUINTET : Jazz Tour – Les Lundis d’Hortense
DESCRIPTION:La qualité n’attend pas le nombre des années\, dit-on. C’est d’abord la passion qui anime Eliott Knuets et qui lui permet de survoler le jazz avec classe et aisance.\nEliott a à peine 20 ans et a déjà joué avec Wynton Marsalis\, Aaron Parks ou encore Stéphane Guillaume. Il a aussi déjà enregistré un album. Et ce projet a\, depuis sa création en 2000\, pris de l’ampleur\, de l’épaisseur\, de l’assurance… et le guitariste n’est pas prêt de se calmer. Il faut dire qu’il aime partager et communiquer. \nSur scène\, il se sent à l’aise et peut se permettre ainsi de prendre tous les risques\, ce qui promet toujours de belles surprises. Dans la lignée des guitaristes de légende\, à commencer par Kenny Burrell\, Knuets injecte des pointes de Monk ou de Coltrane\, mais il impose surtout sa vision et son style. Les excellents musiciens qui l’accompagnent sont aussi de fidèles amis qui le rassurent autant qu’ils le poussent. Eliott éblouit par sa virtuosité et sa simplicité. Ça swingue\, ça groove\, ça improvise\, ça laisse de l’espace\, bref\, ça jazze. Ne manquez pas ce jeune talent avant qu’il n’aille envahir les clubs et les scènes d’Europe et d’ailleurs. Immanquable. \nEliott Knuets – guitare\nStéphane Guillaume – saxophones\, flûte\nOlivier Collette – piano\nSam Gerstmans – contrebasse\nDaniel Jonkers – batterie \nDans le cadre du Jazz Tour. Une collaboration entre l’An Vert et Les Lundis d’Hortense. \nhttps://www.leslundisdhortense.be/ \n \n\n20h30 – 12 € / 10 € (membres LdH) / 6 € (étudiants) \n\nSelon la limite des places disponibles\, les réservations sont vivement souhaitées via anvertreservations@gmail.com
URL:https://jazz04.be/event/eliott-knuets-quintet-jazz-tour-les-lundis-dhortense/
LOCATION:L’An Vert
CATEGORIES:Concerts
ATTACH;FMTTYPE=image/jpeg:https://jazz04.be/wp-content/uploads/2024/03/ldh.jpg
END:VEVENT
END:VCALENDAR