﻿BEGIN:VCALENDAR
VERSION:2.0
PRODID:-//Jazz04 - ECPv5.3.2.1//NONSGML v1.0//EN
CALSCALE:GREGORIAN
METHOD:PUBLISH
X-WR-CALNAME:Jazz04
X-ORIGINAL-URL:https://jazz04.be
X-WR-CALDESC:évènements pour Jazz04
BEGIN:VTIMEZONE
TZID:Europe/Paris
BEGIN:DAYLIGHT
TZOFFSETFROM:+0100
TZOFFSETTO:+0200
TZNAME:CEST
DTSTART:20220327T010000
END:DAYLIGHT
BEGIN:STANDARD
TZOFFSETFROM:+0200
TZOFFSETTO:+0100
TZNAME:CET
DTSTART:20221030T010000
END:STANDARD
END:VTIMEZONE
BEGIN:VEVENT
DTSTART;TZID=Europe/Paris:20220114T200000
DTEND;TZID=Europe/Paris:20220114T220000
DTSTAMP:20260421T103817
CREATED:20211216T125903Z
LAST-MODIFIED:20211216T125903Z
UID:2945-1642190400-1642197600@jazz04.be
SUMMARY:Etienne Plumer : « STEPPE »
DESCRIPTION:L’orage est passé. Le brouillard s’est dissipé. Confinés dans nos intérieurs\, longtemps enfouis en nous-mêmes\, avons-nous pour autant cessé de voyager ? Avons-nous perdu notre route\, égarés tels des arbres dans la steppe\, improbables témoins d’un paysage nouveau ? Non\, la création a continué son chemin sans relâche. \nLa steppe est devant nous. Nous irons là où se mêlent les instruments et le chant\, les compositions et l’improvisation\, la narration et les percussions\, l’acoustique et l’électronique. Nous retrouverons le vent qui souffle sur nos visages et sur nos corps. \nEtienne Plumer – percussions\, électronique\nEmmanuel Baily – guitare\, voixThomas Grailet – guitare\, voixGrégoire Tirtiaux – saxophones \n\nSelon la limite des places disponibles\, les réservations sont vivement souhaitées via reservations@lanvert.be
URL:https://jazz04.be/event/etienne-plumer-steppe-2/
LOCATION:L’An Vert
CATEGORIES:Concerts
ATTACH;FMTTYPE=image/jpeg:https://jazz04.be/wp-content/uploads/2021/12/ep.jpg
ORGANIZER;CN="l%27An%20Vert":MAILTO:info@lanvert.be
END:VEVENT
END:VCALENDAR