﻿BEGIN:VCALENDAR
VERSION:2.0
PRODID:-//Jazz04 - ECPv5.3.2.1//NONSGML v1.0//EN
CALSCALE:GREGORIAN
METHOD:PUBLISH
X-WR-CALNAME:Jazz04
X-ORIGINAL-URL:https://jazz04.be
X-WR-CALDESC:évènements pour Jazz04
BEGIN:VTIMEZONE
TZID:Europe/Paris
BEGIN:DAYLIGHT
TZOFFSETFROM:+0100
TZOFFSETTO:+0200
TZNAME:CEST
DTSTART:20200329T010000
END:DAYLIGHT
BEGIN:STANDARD
TZOFFSETFROM:+0200
TZOFFSETTO:+0100
TZNAME:CET
DTSTART:20201025T010000
END:STANDARD
END:VTIMEZONE
BEGIN:VEVENT
DTSTART;TZID=Europe/Paris:20200131T200000
DTEND;TZID=Europe/Paris:20200131T230000
DTSTAMP:20260421T142053
CREATED:20191209T092209Z
LAST-MODIFIED:20191209T093215Z
UID:1516-1580500800-1580511600@jazz04.be
SUMMARY:EXTEMPORIZATION (Braff/David/Calvet) + OAKSTREET
DESCRIPTION:Ca Balance jazz-world  et le Centre culturel de Liège présentent : \nUne soirée jazz inédite et prestigieuse au service de la découverte ! \n19:15 – ouverture des portes\n20:00 – Oakstreet (40’)\n21:00 – drink\n21:30 – Extemporisation (60’) \nOAKSTREET\nIssu de la rencontre de trois jeunes étudiants du Conservatoire Royal de Bruxelles\, Oakstreet Trio se forme début 2015 à Ovifat\, petit village des Hautes Fagnes. Le répertoire\, composé par le guitariste\, synthétise plusieurs styles musicaux modernes (jazz\, rock…) avec d’autres\, plus anciens (folk\, musiques traditionnelles…)\, donnant naissance à un style personnel marqué de nombreuses influences telles que Tigran Hamasyan\, Pat Metheny\, Avishai Cohen… \nLINE UP \nTéo Crommen : guitare\, composition\nMatteo Mazzù : basse électrique\nGuillaume Malempré : batterie\, percussions \nEXTEMPORIZATION\nLe terme EXTEMPORIZATION exprime à lui seul le concept de ce trio. La musique\, sur scène comme sur disque\, est une intense improvisation basée sur un catalogue de variations\, thèmes et rythmiques dans lequel le groupe puise en fonction des propositions de chacun. L’auditeur de cette expérience musicale voyagera dans les trois cerveaux bouillonnants de Malcolm Braff\, Laurent David et Jean-Christophe Calvet. Ce rendez-vous est inédit à Liège ! \nLINE UP \nMalcolm Braff : piano\, claviers\nLaurent David : basse\nJean-Christophe Calvet : batterie
URL:https://jazz04.be/event/extemporization-braff-david-calvet-oakstreet/
LOCATION:Centre culturel de Liège\, Les Chiroux\, Place des Carmes 8\,\, 4000 Liège
CATEGORIES:Concerts
ATTACH;FMTTYPE=image/jpeg:https://jazz04.be/wp-content/uploads/2019/12/Concert-JazzWorld_EXTEMPORIZATION-e1575883200942.jpg
END:VEVENT
END:VCALENDAR