﻿BEGIN:VCALENDAR
VERSION:2.0
PRODID:-//Jazz04 - ECPv5.3.2.1//NONSGML v1.0//EN
CALSCALE:GREGORIAN
METHOD:PUBLISH
X-WR-CALNAME:Jazz04
X-ORIGINAL-URL:https://jazz04.be
X-WR-CALDESC:évènements pour Jazz04
BEGIN:VTIMEZONE
TZID:Europe/Paris
BEGIN:DAYLIGHT
TZOFFSETFROM:+0100
TZOFFSETTO:+0200
TZNAME:CEST
DTSTART:20220327T010000
END:DAYLIGHT
BEGIN:STANDARD
TZOFFSETFROM:+0200
TZOFFSETTO:+0100
TZNAME:CET
DTSTART:20221030T010000
END:STANDARD
END:VTIMEZONE
BEGIN:VEVENT
DTSTART;TZID=Europe/Paris:20220429T200000
DTEND;TZID=Europe/Paris:20220429T220000
DTSTAMP:20260421T160049
CREATED:20220308T140509Z
LAST-MODIFIED:20220407T132330Z
UID:3095-1651262400-1651269600@jazz04.be
SUMMARY:FILIPPO BIANCHINI QUINTET
DESCRIPTION:Quand ça doit swinguer\, il faut que ça swing. Alors pourquoi y aller par quatre chemins ? Si vous avez une furieuse envie de taper du pied ou de claquer des doigts\, laissez-vous embarquer par le saxophoniste italien Filippo Bianchini et sa bande. Biberonné au hard bop et inspiré par les plus grands (de Rollins à Lovano en passant par Gordon ou Henderson) Bianchini ne manque ni d’énergie ni d’idées. Car le saxophoniste a aussi assez de tempérament pour imposer son propre style. \nIl sait propulser son groupe\, l’entraîner très loin et puis le lâcher pour laisser ses complices profiter de beaux espaces qu’ils rempliront de solos pleins d’esprit. Chacun d’eux est au taquet\, prêt à sauter dans le vide\, à relancer\, à répondre. C’est du hard bop en plein !  Cela demande une cohésion parfaite pour que ça fonctionne. Et ça fonctionne car la rigueur autant que la souplesse sont au rendez-vous. \nAlors\, si vous avez en tête les clubs de jazz new-yorkais où l’énergie vous regonfle après une journée difficile\, c’est ici qu’il faut être. C’est brillant\, optimiste et ça fait un bien fou au moral. © Jazzques \nFilippo Bianchini – saxophone ténor\nJean-Paul Estievenart – trompette\nNicola Andrioli  – piano\nIgor Spallati  -contrebasse\nArmando Luongo – batterie \nhttp://www.filippobianchini.com/ \nDans le cadre du Jazz Tour. Une collaboration entre l’An Vert et Les Lundis d’Hortense. \nhttps://www.leslundisdhortense.be/ \n \n\n20h – 12 € / 10 € (membres LdH) / 78€ (demandeurs d’emploi) / 7 € (étudiants)
URL:https://jazz04.be/event/filippo-bianchini-quintet/
LOCATION:L’An Vert
CATEGORIES:Concerts
ATTACH;FMTTYPE=image/jpeg:https://jazz04.be/wp-content/uploads/2022/03/bianchini.jpg
ORGANIZER;CN="l%27An%20Vert":MAILTO:info@lanvert.be
END:VEVENT
END:VCALENDAR