﻿BEGIN:VCALENDAR
VERSION:2.0
PRODID:-//Jazz04 - ECPv5.3.2.1//NONSGML v1.0//EN
CALSCALE:GREGORIAN
METHOD:PUBLISH
X-WR-CALNAME:Jazz04
X-ORIGINAL-URL:https://jazz04.be
X-WR-CALDESC:évènements pour Jazz04
BEGIN:VTIMEZONE
TZID:Europe/Paris
BEGIN:DAYLIGHT
TZOFFSETFROM:+0100
TZOFFSETTO:+0200
TZNAME:CEST
DTSTART:20200329T010000
END:DAYLIGHT
BEGIN:STANDARD
TZOFFSETFROM:+0200
TZOFFSETTO:+0100
TZNAME:CET
DTSTART:20201025T010000
END:STANDARD
END:VTIMEZONE
BEGIN:VEVENT
DTSTART;TZID=Europe/Paris:20200307T203000
DTEND;TZID=Europe/Paris:20200307T233000
DTSTAMP:20260421T104145
CREATED:20200302T095531Z
LAST-MODIFIED:20200302T100033Z
UID:1941-1583613000-1583623800@jazz04.be
SUMMARY:Grégoire Tirtiaux Quartet
DESCRIPTION:Grégoire Tirtiaux Quartet\n\n\nLes compositions de Grégoire Tirtiaux servent de terreau à la créativité musicale de ce quartet électrique dont le propos actuel et non consensuel à la fois éclaté et d’une unité rare aborde dans ses titres des sujets tels que les violences policières\, l’agitation des pensées\, la marche infernale du monde ou encore le théâtre japonais\, cela avec poésie\, une rage passionnée et en y portant un regard méditatif. Le mode d’expression utilisé reste cependant entièrement musical et est  inspiré aussi bien des musiques de transe que du jazz et de la pop. Un beau voyage avec le fougueux Dorian Dumont au piano et clavier\, le posé Lennart Heyndels à la basse électrique et au synthé modulaire et le sensible Yannick Dupont à la batterie. \nGrégoire Tirtiaux: saxophones\nDorian Dumont : claviers\,\nLennart Heyndels : basse\nYannick Dupont: batterie. \n \n\n20h30 – 8 € / 6 € (demandeurs d’emploi) / 5 € (étudiants)
URL:https://jazz04.be/event/gregoire-tirtiaux-quartet/
LOCATION:L’An Vert\, Rue Mathieu Polain\, 4\, Liège\, 4020\, Belgique
CATEGORIES:Concerts
ATTACH;FMTTYPE=image/jpeg:https://jazz04.be/wp-content/uploads/2020/03/tirtiaux_quartet.jpg
END:VEVENT
END:VCALENDAR