﻿BEGIN:VCALENDAR
VERSION:2.0
PRODID:-//Jazz04 - ECPv5.3.2.1//NONSGML v1.0//EN
CALSCALE:GREGORIAN
METHOD:PUBLISH
X-WR-CALNAME:Jazz04
X-ORIGINAL-URL:https://jazz04.be
X-WR-CALDESC:évènements pour Jazz04
BEGIN:VTIMEZONE
TZID:Europe/Paris
BEGIN:DAYLIGHT
TZOFFSETFROM:+0100
TZOFFSETTO:+0200
TZNAME:CEST
DTSTART:20230326T010000
END:DAYLIGHT
BEGIN:STANDARD
TZOFFSETFROM:+0200
TZOFFSETTO:+0100
TZNAME:CET
DTSTART:20231029T010000
END:STANDARD
END:VTIMEZONE
BEGIN:VEVENT
DTSTART;TZID=Europe/Paris:20231208T201500
DTEND;TZID=Europe/Paris:20231208T230000
DTSTAMP:20260426T053824
CREATED:20230907T134404Z
LAST-MODIFIED:20231117T125620Z
UID:4308-1702066500-1702076400@jazz04.be
SUMMARY:GUY VERLINDE & THE ARTISANS OF SOLACE blues
DESCRIPTION:Les pouvoirs bénéfiques de la musique ! \nGuy Verlinde a dominé la scène blues belge au cours de la dernière décennie\, Il a joué dans de nombreux clubs prestigieux et festivals internationaux où il a partagé l’affiche avec des grands comme : B.B. King\, Santana\, Jeff Beck et a tourné dans toute l’Europe avec son groupe « The Mighty Gators »\, \nAvec cet album Standing In The Light of a Brand-New Day\, il atteint une nouvelle étape dans son évolution musicale et lyrique.\nToujours amoureux de la musique acoustique\, Il invite pour ces concerts en public\, « The Artisans of Solace »\, pour donner du relief aux arrangements plus riches et donner de l’intensité à ce\nspectacle musical empreint d’histoires d’amour\, d’échecs\, d’espoir\, de résurrection… des chansons oniriques\, acoustiques et narratives qui vous prennent la gorge. \n« The Artisans of Solace » est un groupe de musiciens de haut niveau avec lesquels il a parcouru de nombreux kilomètres musicaux dans le passé. La section rythmique est composée de Karl Zosel et Benoit Maddens\, qui ont également joué dans « The Mighty Gators ». En outre\, on retrouve les deux multi-instrumentistes polyvalents Tom Eylenbosch et Olivier Vander Bauwede\, qui maitrisent l’art de la coloration du son. \nMUSICIENS\n– Guy Verlinde : chant\, guitare et banjo\n– Benoit Maddens : batterie et percussions\n– Karl Zosel : basse\n– Tom Eylenbosch : piano et banjo\n– Olivier Vander Bauwede : harmonica et guitare \nUne collaboration entre le Foyer culturel de Sprimont\, les Jeunesses Musicales de Liège\nPAF : 15 € – prévente : 13€ – Membres des Lundis d’Hortense : 11€ – Etudiant : 7€ – art 27 : 1\,25€ \n 
URL:https://jazz04.be/event/guy-verlinde-the-artisans-of-solace-blues/
LOCATION:Foyer culturel Sprimont\, Rue du Centre 81\, 4140 Sprimont
CATEGORIES:Concerts
ATTACH;FMTTYPE=image/jpeg:https://jazz04.be/wp-content/uploads/2023/09/2023-800.jpg
ORGANIZER;CN="Foyer%20culturel%20Sprimont":MAILTO:info@foyer-culturel-sprimont.be
END:VEVENT
END:VCALENDAR