﻿BEGIN:VCALENDAR
VERSION:2.0
PRODID:-//Jazz04 - ECPv5.3.2.1//NONSGML v1.0//EN
CALSCALE:GREGORIAN
METHOD:PUBLISH
X-WR-CALNAME:Jazz04
X-ORIGINAL-URL:https://jazz04.be
X-WR-CALDESC:évènements pour Jazz04
BEGIN:VTIMEZONE
TZID:Europe/Paris
BEGIN:DAYLIGHT
TZOFFSETFROM:+0100
TZOFFSETTO:+0200
TZNAME:CEST
DTSTART:20240331T010000
END:DAYLIGHT
BEGIN:STANDARD
TZOFFSETFROM:+0200
TZOFFSETTO:+0100
TZNAME:CET
DTSTART:20241027T010000
END:STANDARD
END:VTIMEZONE
BEGIN:VEVENT
DTSTART;TZID=Europe/Paris:20241221T203000
DTEND;TZID=Europe/Paris:20241221T203000
DTSTAMP:20260425T141854
CREATED:20241106T084210Z
LAST-MODIFIED:20241106T122421Z
UID:5047-1734813000-1734813000@jazz04.be
SUMMARY:Tassin/Hermia/Joris
DESCRIPTION:Ce trio explore les horizons d’un blues contemporain teinté de jazz et de musique africaine. Au travers d’une très organique interaction entre la guitare\, le saxophone et la batterie\, ce trio multigénérationnel nous offre une expérience musicale pleine de fraîcheur. \nChaque composition correspond à un tableau sonore\, un kaléidoscope de textures\, un mélange subtil d’harmonies complexes et de rythmes entraînants. Tel un écho des temps modernes\, leur musique nous invite à plonger dans un océan sonore où les mélodies s’entrelacent et les émotions se réveillent.
URL:https://jazz04.be/event/hermia-tassin-joris/
LOCATION:L’An Vert
CATEGORIES:Concerts
ATTACH;FMTTYPE=image/jpeg:https://jazz04.be/wp-content/uploads/2024/11/Julien-Tassin-trio-c-Lucinde-Wahlen-33-scaled.jpg
ORGANIZER;CN="l%27An%20Vert":MAILTO:info@lanvert.be
END:VEVENT
END:VCALENDAR