﻿BEGIN:VCALENDAR
VERSION:2.0
PRODID:-//Jazz04 - ECPv5.3.2.1//NONSGML v1.0//EN
CALSCALE:GREGORIAN
METHOD:PUBLISH
X-WR-CALNAME:Jazz04
X-ORIGINAL-URL:https://jazz04.be
X-WR-CALDESC:évènements pour Jazz04
BEGIN:VTIMEZONE
TZID:Europe/Paris
BEGIN:DAYLIGHT
TZOFFSETFROM:+0100
TZOFFSETTO:+0200
TZNAME:CEST
DTSTART:20190331T010000
END:DAYLIGHT
BEGIN:STANDARD
TZOFFSETFROM:+0200
TZOFFSETTO:+0100
TZNAME:CET
DTSTART:20191027T010000
END:STANDARD
END:VTIMEZONE
BEGIN:VEVENT
DTSTART;TZID=Europe/Paris:20191212T181500
DTEND;TZID=Europe/Paris:20191212T203000
DTSTAMP:20260421T154318
CREATED:20191209T154017Z
LAST-MODIFIED:20191209T154017Z
UID:1580-1576174500-1576182600@jazz04.be
SUMMARY:Histoire du Jazz II
DESCRIPTION:Cours d’Histoire et de Compréhension du Jazz : \nTous les jeudis (hors périodes de congés scolaires) à la Maison du Jazz : plus d’info \n  \n*Gratuit pour les membres de la Maison du Jazz
URL:https://jazz04.be/event/histoire-du-jazz-ii/
LOCATION:Maison du Jazz\, Rue Sur Les Foulons 11\, 4000 Liège
CATEGORIES:Formations
ATTACH;FMTTYPE=image/jpeg:https://jazz04.be/wp-content/uploads/2019/12/Ornette_Coleman_Courtesy_of_Atlantic_Records_web.jpg
END:VEVENT
END:VCALENDAR