﻿BEGIN:VCALENDAR
VERSION:2.0
PRODID:-//Jazz04 - ECPv5.3.2.1//NONSGML v1.0//EN
CALSCALE:GREGORIAN
METHOD:PUBLISH
X-WR-CALNAME:Jazz04
X-ORIGINAL-URL:https://jazz04.be
X-WR-CALDESC:évènements pour Jazz04
BEGIN:VTIMEZONE
TZID:Europe/Paris
BEGIN:DAYLIGHT
TZOFFSETFROM:+0100
TZOFFSETTO:+0200
TZNAME:CEST
DTSTART:20200329T010000
END:DAYLIGHT
BEGIN:STANDARD
TZOFFSETFROM:+0200
TZOFFSETTO:+0100
TZNAME:CET
DTSTART:20201025T010000
END:STANDARD
END:VTIMEZONE
BEGIN:VEVENT
DTSTART;TZID=Europe/Paris:20200229T201500
DTEND;TZID=Europe/Paris:20200229T233000
DTSTAMP:20260421T114040
CREATED:20200218T110645Z
LAST-MODIFIED:20200218T110645Z
UID:1835-1583007300-1583019000@jazz04.be
SUMMARY:Houben & Son
DESCRIPTION:Samedi 29 février 2020 à 20h15  \nConcert – HOUBEN & SON – Quintet – Jazz \nSteve et Greg Houben décident de lever le voile sur leur artisanat familial. \nIls se souviennent de leur passé et unissent leur souffle. L’un voulait être poète et l’autre comédien\, mais ici l’affaire prend l’allure d‘une musique de jazz\, simple dans sa forme et riche de ses émotions. \nChaque instant est une nouvelle porte qui s’ouvre sur un espace qui fait apparaître des silences fabuleux de sel\, de sable ou de neige\, et sous d’étranges nébuleuses sonores\, une ancienne chanson de solitude. \nIl fait aussi entendre les mots du monde qui racontent le quotidien des métiers\, des soucis\, des amours. Alors le cuivre se mêle au bois et entame une cantate à deux voix mixtes\, puis arrive un piano\, tambours et cymbales également jetés dans la fournaise et emmenés par la contrebasse qui poursuit\, dans son mouvement perpétuel\, sa fabuleuse marche sur la ligne du temps ! \n Steve Houben: sax\, flute \nGreg Houben: trompette\, bugle \nPascal Mohy: piano \nCédric Raymond: contrebasse \nJames Williams: batterie \n  \nwww.wooha.be/houbenandson \nEn partenariat avec les Jeunesses Musicales de Liège  \nPAF : 13€ – Prévente : 11€ – Etudiant : 5€
URL:https://jazz04.be/event/houben-son/
LOCATION:Foyer culturel Sprimont\, Rue du Centre 81\, 4140 Sprimont
CATEGORIES:Concerts
ATTACH;FMTTYPE=image/jpeg:https://jazz04.be/wp-content/uploads/2020/02/02-29-Houben-web.jpg
END:VEVENT
END:VCALENDAR