﻿BEGIN:VCALENDAR
VERSION:2.0
PRODID:-//Jazz04 - ECPv5.3.2.1//NONSGML v1.0//EN
CALSCALE:GREGORIAN
METHOD:PUBLISH
X-WR-CALNAME:Jazz04
X-ORIGINAL-URL:https://jazz04.be
X-WR-CALDESC:évènements pour Jazz04
BEGIN:VTIMEZONE
TZID:Europe/Paris
BEGIN:DAYLIGHT
TZOFFSETFROM:+0100
TZOFFSETTO:+0200
TZNAME:CEST
DTSTART:20210328T010000
END:DAYLIGHT
BEGIN:STANDARD
TZOFFSETFROM:+0200
TZOFFSETTO:+0100
TZNAME:CET
DTSTART:20211031T010000
END:STANDARD
END:VTIMEZONE
BEGIN:VEVENT
DTSTART;TZID=Europe/Paris:20211215T190000
DTEND;TZID=Europe/Paris:20211215T233000
DTSTAMP:20260421T104304
CREATED:20211107T151830Z
LAST-MODIFIED:20211107T151831Z
UID:2855-1639594800-1639611000@jazz04.be
SUMMARY:Igor gehenot & Julie Erikssen
DESCRIPTION:Avec Julie Erikssen (vc)\, Igor Gehenot (pn)\, Lorenzo Di Maio (gt)\, Viktor Nyberg (cb) & Fabio Zamagni (dr) \n  \nJulie Erikssen\, chanteuse parisienne à la voix cristalline et enchanteresse\, mais aussi multi-instrumentiste et songwriter surdouée\, a depuis maintenant plusieurs années conquis la scène musicale jazz hexagonale et européenne.\nC’est un préambule de 5 ans avant de dévoiler sa musique : un son élégant\, des influences jazz & folk\, des musiciens au cordeau et cette voix si lumineuse au timbre franc. »Out of chaos »\, son nouvel album\, ce bois tendre et poli dans lequel coule la sève de ce qui fait l’essence de Julie. Venez donc faire un tour dans son cosmos…\nElle s’entoure pour cette tournée belge \, de poids lourd de la scène nationale jazz.\nEntrée: 12 \n \n  \nL’accès aux concerts se fait SANS réservation! \n  \nOuverture du club dès 19h00\nConcert à 21h00 \nLes règles actuelles sont de vigueur dans notre établissement. \n  \n\nL’accès au restaurant se fait uniquement sous réservation. \njacquespelzerjazzclub.asbl@gmail.com\nNotre confirmation en réponse fait office de réservation.\nSi le restaurant est complet\, une liste d’attente est créée.\n\nMerci de prévenir en cas de désistement\, nous pourrons ainsi proposer la place à une autre personne.\n\nCoordinateur covid: Kathleen Lemal – info@jacquespelzerjazzclub.com
URL:https://jazz04.be/event/igor-gehenot-julie-erikssen/
LOCATION:Jacques Pelzer Jazz Club\, Boulevard Ernest Solvay 493\, Liège\, Liège\, 4000
CATEGORIES:Concerts
ATTACH;FMTTYPE=image/png:https://jazz04.be/wp-content/uploads/2021/11/Julie-Erikssen_202110914353.png
ORGANIZER;CN="Jacques%20Pelzer%20Jazz%20Club":MAILTO:jacquespelzerjazzclub.asbl@gmail.com
END:VEVENT
END:VCALENDAR