﻿BEGIN:VCALENDAR
VERSION:2.0
PRODID:-//Jazz04 - ECPv5.3.2.1//NONSGML v1.0//EN
CALSCALE:GREGORIAN
METHOD:PUBLISH
X-WR-CALNAME:Jazz04
X-ORIGINAL-URL:https://jazz04.be
X-WR-CALDESC:évènements pour Jazz04
BEGIN:VTIMEZONE
TZID:Europe/Paris
BEGIN:DAYLIGHT
TZOFFSETFROM:+0100
TZOFFSETTO:+0200
TZNAME:CEST
DTSTART:20210328T010000
END:DAYLIGHT
BEGIN:STANDARD
TZOFFSETFROM:+0200
TZOFFSETTO:+0100
TZNAME:CET
DTSTART:20211031T010000
END:STANDARD
END:VTIMEZONE
BEGIN:VEVENT
DTSTART;TZID=Europe/Paris:20211211T203000
DTEND;TZID=Europe/Paris:20211211T223000
DTSTAMP:20260421T103959
CREATED:20211116T163748Z
LAST-MODIFIED:20211117T092619Z
UID:2876-1639254600-1639261800@jazz04.be
SUMMARY:IGOR GEHENOT TRIO
DESCRIPTION:Pour célébrer cette rentrée culturelle\, Igor Gehenot vous propose de partager un moment musical en excellente compagnie. Il a\, pour cette occasion\, rassemblé la fine fleur du jazz belge en la personne de Sal La Rocca à la contrebasse et de l’israélien Noam Israeli à la batterie. \nLe groupe nous emmènera sur le chemin de leurs envies\, leurs gourmandises et leur liberté retrouvée. En toute simplicité\, mêlant compositions personnelles et standards. Un concert vrai. Chaleureux. Intime parfois. Et toujours réconfortant. Comme un sourire réjoui devant un monde de nouveau disponible à la poésie.\n\nIgor Gehenot – piano\nSal La Rocca – double basse\nNoam Israeli  – batterie\n\nreservations@lanvert.be
URL:https://jazz04.be/event/igor-gehenot-trio/
LOCATION:L’An Vert
CATEGORIES:Concerts
ATTACH;FMTTYPE=image/jpeg:https://jazz04.be/wp-content/uploads/2021/11/igor.jpg
ORGANIZER;CN="l%27An%20Vert":MAILTO:info@lanvert.be
END:VEVENT
END:VCALENDAR