﻿BEGIN:VCALENDAR
VERSION:2.0
PRODID:-//Jazz04 - ECPv5.3.2.1//NONSGML v1.0//EN
CALSCALE:GREGORIAN
METHOD:PUBLISH
X-WR-CALNAME:Jazz04
X-ORIGINAL-URL:https://jazz04.be
X-WR-CALDESC:évènements pour Jazz04
BEGIN:VTIMEZONE
TZID:Europe/Paris
BEGIN:DAYLIGHT
TZOFFSETFROM:+0100
TZOFFSETTO:+0200
TZNAME:CEST
DTSTART:20230326T010000
END:DAYLIGHT
BEGIN:STANDARD
TZOFFSETFROM:+0200
TZOFFSETTO:+0100
TZNAME:CET
DTSTART:20231029T010000
END:STANDARD
END:VTIMEZONE
BEGIN:VEVENT
DTSTART;TZID=Europe/Paris:20231220T190000
DTEND;TZID=Europe/Paris:20231220T233000
DTSTAMP:20260426T035835
CREATED:20230928T163347Z
LAST-MODIFIED:20230928T163347Z
UID:4407-1703098800-1703115000@jazz04.be
SUMMARY:Ivan Paduart & Fabrice Alleman
DESCRIPTION:Avec Ivan Paduart (pn) & Fabrice Alleman (sax sp\, tn) \nEntrée: 12€ tout public \n10€ étudiant \nL’accès aux concerts se fait SANS réservation! \n  \nOuverture du club dès 19h00\nConcert à 21h00 \n\nL’accès au restaurant se fait uniquement sous réservation.\njacquespelzerjazzclub.asbl@gmail.com\nNotre confirmation en réponse fait office de réservation.
URL:https://jazz04.be/event/ivan-paduart-fabrice-alleman/
LOCATION:Jacques Pelzer Jazz Club\, Boulevard Ernest Solvay 493\, Liège\, Liège\, 4000
CATEGORIES:Concerts
ORGANIZER;CN="Jacques%20Pelzer%20Jazz%20Club":MAILTO:jacquespelzerjazzclub.asbl@gmail.com
END:VEVENT
END:VCALENDAR