﻿BEGIN:VCALENDAR
VERSION:2.0
PRODID:-//Jazz04 - ECPv5.3.2.1//NONSGML v1.0//EN
CALSCALE:GREGORIAN
METHOD:PUBLISH
X-WR-CALNAME:Jazz04
X-ORIGINAL-URL:https://jazz04.be
X-WR-CALDESC:évènements pour Jazz04
BEGIN:VTIMEZONE
TZID:Europe/Paris
BEGIN:DAYLIGHT
TZOFFSETFROM:+0100
TZOFFSETTO:+0200
TZNAME:CEST
DTSTART:20200329T010000
END:DAYLIGHT
BEGIN:STANDARD
TZOFFSETFROM:+0200
TZOFFSETTO:+0100
TZNAME:CET
DTSTART:20201025T010000
END:STANDARD
END:VTIMEZONE
BEGIN:VEVENT
DTSTART;TZID=Europe/Paris:20200120T150000
DTEND;TZID=Europe/Paris:20200120T210000
DTSTAMP:20260421T154151
CREATED:20200117T125516Z
LAST-MODIFIED:20200117T132332Z
UID:1721-1579532400-1579554000@jazz04.be
SUMMARY:Jam Jazz sur Meuse
DESCRIPTION:Musicien(ne)s et mélomanes amateurs de jazz\, soyez les bienvenu(e)s dans l’univers de Jam Jazz sur Meuse.\nLes portes de l’An Vert s’ouvrent à 15h et la jam démarre à 16h pour se terminer à 21h.\nPour les chanteurs / euses : venez avec vos partitions (en tout cas avec votre tonalité !)\, sinon la rythmique aura plus de mal à vous soutenir. \nJam Jazz sur Meuse est ouverte à tous les musiciens\, quel que soit leur niveau. Précisons tout de même qu’il s’agit d’une jam de jazz\, il est donc nécessaire de pouvoir suivre une grille d’accords\, le but étant de faire de la musique ensemble. \n\n15h – Prix libre
URL:https://jazz04.be/event/jam-jazz-sur-meuse/
LOCATION:L’An Vert\, Rue Mathieu Polain\, 4\, Liège\, 4020\, Belgique
CATEGORIES:Concerts
ATTACH;FMTTYPE=image/jpeg:https://jazz04.be/wp-content/uploads/2020/01/jens-thekkeveettil-2538-unsplash.jpg
END:VEVENT
END:VCALENDAR