﻿BEGIN:VCALENDAR
VERSION:2.0
PRODID:-//Jazz04 - ECPv5.3.2.1//NONSGML v1.0//EN
CALSCALE:GREGORIAN
METHOD:PUBLISH
X-WR-CALNAME:Jazz04
X-ORIGINAL-URL:https://jazz04.be
X-WR-CALDESC:évènements pour Jazz04
BEGIN:VTIMEZONE
TZID:Europe/Paris
BEGIN:DAYLIGHT
TZOFFSETFROM:+0100
TZOFFSETTO:+0200
TZNAME:CEST
DTSTART:20210328T010000
END:DAYLIGHT
BEGIN:STANDARD
TZOFFSETFROM:+0200
TZOFFSETTO:+0100
TZNAME:CET
DTSTART:20211031T010000
END:STANDARD
END:VTIMEZONE
BEGIN:VEVENT
DTSTART;TZID=Europe/Paris:20210618T193000
DTEND;TZID=Europe/Paris:20210618T220000
DTSTAMP:20260421T123126
CREATED:20210511T074817Z
LAST-MODIFIED:20210615T083938Z
UID:2424-1624044600-1624053600@jazz04.be
SUMMARY:Jazz al'trappe : Guy Cabay Lemon Air Collection
DESCRIPTION:Initialement prévu lors de la Journée internationale du Jazz\, le 30 avril\, ce concert est proposé par le Centre culturel d’Ans et le Collectif Jazz04\, dans le cadre des soirées Jazz al ‘trappe. \nAvec : \n\nGuy Cabay : vibraphone\, clavier \, vocal\nJulien Cuvelier : sax alto\nBastien Jeunieaux : guitare\nBasile Rahola  : contrebasse\nArnaud Cabay : drums\n\nNé en 1950 à Polleur\, Guy Cabay est diplômé en musicologie de l’Université de Liège. Il a fait partie\, avec Steve Houben\, de l’équipe des Séminaires de Jazz du Conservatoire de Liège\, première expérience jazz au sein d’un Conservatoire.\nComme vibraphoniste\, il a fondé Lemon Air\, au sein duquel ont défilé Steve Houben\, Phil Abraham\, Richard Rousselet ou le Français Benoît Sourisse (notamment au premier festival Jazz au Château d’Oupeye). Il a fait partie de l’Act Big Band de Félix Simtaine\, du projet Steve Houben + Strings\, d’un duo avec le pianiste Fabian Fiorini (album Fasol Fado) et enregistré avec Jacques Pirotton (album On the jazz side of my street). A côté de son parcours jazz\, mâtiné de rythmes brésiliens\, il a enregistré différents albums de chansons en Wallon\, prouvant que le vocalisme du Wallon s’accommodait facilement des rythmes brésiliens (album The Biesse Tof\, avec le légendaire Amon Laca). \nPour célébrer son septantième anniversaire\, Guy s’est entouré\, selon son habitude\, de jeunes musiciens. Au saxophone alto\, Julien Cuvelier.. Né à Mouscron\, il a étudié au Conservatoire de Bruxelles et a très vite rejoint le West Music Club\, le Big Band dirigé par Richard Rousselet: on l’entend notamment sur l’album Natural.\nA la guitare\, Bastien Jeuniaux qui a d’abord étudié avec Fabrice Alleman puis rejoint le Conservatoire de Bruxelles\, sous la férule de Fabien Degryse et du Brésilien Victor Da Casta. Soutenu par le projet Ca Balance de la Province\, il a formé le Bam Trio\, avec Maxime Moyaerts à l’orgue et Arnaud Cabay à la batterie\, un groupe qu’on a pu entendre régulièrement au Sounds de Bruxelles.\nA la contrebasse\, le Catalan Basile Lahora et\, à la batterie\, le fils de Guy\, Arnaud Cabay. Elève du Conservatoire de Bruxelles\, sous la conduite du Français Thomas Grimmonprez\, un membre du quartet de Phil Abraham\, Arnaud a résidé un an à Rome où il a rencontré Roberto Gatto\, le batteur cher au trompettiste Enrico Rava. En plus du Bam Trio\, il fait partie du piano-trio We love Thelonious qui s’est souvent produit à Bruxelles. Le projet actuel devrait déboucher sur l’enregistrement d’un album: Cabinet des Curiosités. Guy Cabay: une vraie personnalité qui a su allier jazz et rythmes brésiliens\, virtuosité au vibraphone et renouveau du Wallon. \nEntrée : 8€ (places table) / 7€ (places mange-debout)\nRéservation obligatoire – nombre de places limité \n  \nAchetez vos billets \nL’horaire est adapté afin de respecter le protocole Covid : \n\n19h30 : ouverture des portes\n20h30 : concert\n23h30 : fermeture des portes\n\nPhotos : Julien Cuvelier (c) IAD Music\, Bastien Jeuniaux (c)Bam\, Basile Lahora (c)Michal Wojtarowicz\, Arnaud Cabay (b)Bam Guy Cabay (c)Robert Hansenne\n 
URL:https://jazz04.be/event/jazz-al-trappe-guy-cabay-lemon-air-collection/
LOCATION:Centre culturel d’Ans\, place des Anciens Combattants 1\, 4432 Alleur
CATEGORIES:Concerts
ATTACH;FMTTYPE=image/png:https://jazz04.be/wp-content/uploads/2021/05/GuyCabay.png
END:VEVENT
END:VCALENDAR