﻿BEGIN:VCALENDAR
VERSION:2.0
PRODID:-//Jazz04 - ECPv5.3.2.1//NONSGML v1.0//EN
CALSCALE:GREGORIAN
METHOD:PUBLISH
X-WR-CALNAME:Jazz04
X-ORIGINAL-URL:https://jazz04.be
X-WR-CALDESC:évènements pour Jazz04
BEGIN:VTIMEZONE
TZID:Europe/Paris
BEGIN:DAYLIGHT
TZOFFSETFROM:+0100
TZOFFSETTO:+0200
TZNAME:CEST
DTSTART:20210328T010000
END:DAYLIGHT
BEGIN:STANDARD
TZOFFSETFROM:+0200
TZOFFSETTO:+0100
TZNAME:CET
DTSTART:20211031T010000
END:STANDARD
END:VTIMEZONE
BEGIN:VEVENT
DTSTART;TZID=Europe/Paris:20211001T203000
DTEND;TZID=Europe/Paris:20211001T233000
DTSTAMP:20260421T104334
CREATED:20211001T125222Z
LAST-MODIFIED:20211001T131026Z
UID:2670-1633120200-1633131000@jazz04.be
SUMMARY:Jazz al'trappe : Maxime Blésin Acoustic Trio
DESCRIPTION:ADDENDUM : Suite à un contretemps indépendant de notre volonté\, Mayaan Smith sera remplacé par Vincent Thekal. \n\nVoici un nouveau projet du guitariste Maxime Blésin qu’on avait découvert au sein du Bop and Soul Sextt\, avec Greg Houben\, puis avec State of time en compagnie du saxophoniste alto Stéphane Mercier (album Boeuf In the Basement). Lui qu’on a entendu si souvent dans des registres groovy\, .le voici en trio purement acoustique. \nA la contrebasse\, Victor Foulon\, qu’on a entendu à Ans\, en trio avec Quentin Liégeois\, pour un hommage à René Thomas\, et qui a enregistré avec Diederik Wissels. \nAu saxophone\, Maayan Smith\, musicien originaire de Jérusalem\, mais qui a étudié au Conservatoire de Bruxelles avec l’Américain John Ruocco et notre compatriote Jeroen Van Herzeele et qui joue avec le Jazz Station Big Band dirigé par Stéphane Mercier. \nUn jazz tout en délicatesse. \nAvec le soutien de la Fédération Wallonie-Bruxellles et la Province de Liège – Service Culture. \nEntrée : 8€ (prévente & membre CcAns) / 10€ sur place / 1\,25€ (art.27)
URL:https://jazz04.be/event/jazz-altrappe-maxime-blesin-acoustic-trio/
LOCATION:Centre culturel d’Ans\, place des Anciens Combattants 1\, 4432 Alleur
CATEGORIES:Concerts
ATTACH;FMTTYPE=image/jpeg:https://jazz04.be/wp-content/uploads/2021/10/MaximeBlesin-scaled-1.jpg
END:VEVENT
END:VCALENDAR