﻿BEGIN:VCALENDAR
VERSION:2.0
PRODID:-//Jazz04 - ECPv5.3.2.1//NONSGML v1.0//EN
CALSCALE:GREGORIAN
METHOD:PUBLISH
X-WR-CALNAME:Jazz04
X-ORIGINAL-URL:https://jazz04.be
X-WR-CALDESC:évènements pour Jazz04
BEGIN:VTIMEZONE
TZID:Europe/Paris
BEGIN:DAYLIGHT
TZOFFSETFROM:+0100
TZOFFSETTO:+0200
TZNAME:CEST
DTSTART:20190331T010000
END:DAYLIGHT
BEGIN:STANDARD
TZOFFSETFROM:+0200
TZOFFSETTO:+0100
TZNAME:CET
DTSTART:20191027T010000
END:STANDARD
END:VTIMEZONE
BEGIN:VEVENT
DTSTART;TZID=Europe/Paris:20191122T210000
DTEND;TZID=Europe/Paris:20191122T233000
DTSTAMP:20260421T104242
CREATED:20191109T110636Z
LAST-MODIFIED:20191115T115242Z
UID:1037-1574456400-1574465400@jazz04.be
SUMMARY:Jazz and More : Blondiau - Cabras
DESCRIPTION:Laurent Blondiau est un véritable explorateur musical\, toujours à l’affut d’expériences sonores et de nouveaux projets qu’il met en place aux quatre coins du monde avec sa propre maison de production MetX. Trompettiste aux idées intarissables et aventureuses\, il met toute son énergie au service d’une musique élaborée en perpétuel renouvellement. Pour l’occasion\, il sera accompagné d’un contrebassiste belge tout aussi passionné\, inventif\, fascinant et virtuose des extrêmes\, Manolo Cabras. Alors laissez libre cours à votre soif de découvertes et ne ratez pas leur passage ce 22 novembre au JP’s ! \n\nwww.maisondujazz.be\nwww.igloorecords.be/artist/laurent-blondiau\nwww.manolocabras.com\n\nL’accès aux concerts se fait sans réservation.\nLes réservations concernent le restaurant et se font uniquement par mail via l’adresse: info@jacquespelzerjazzclub.com\nRéponse de notre part\, pour confirmation\, dans les plus brefs délais et dans les limites de nos possibilités d’accueil.\nIl n’est pas possible de payer par carte dans notre établissement.\nOuverture du club et du restaurant dès 19h\, concert à 21h.
URL:https://jazz04.be/event/jazz-and-more-blondiau-cabras/
LOCATION:Jacques Pelzer Jazz Club\, Boulevard Ernest Solvay 493\, Liège\, Liège\, 4000
CATEGORIES:Concerts
ATTACH;FMTTYPE=image/jpeg:https://jazz04.be/wp-content/uploads/2019/11/Laurent_blondiau.jpg
END:VEVENT
END:VCALENDAR