﻿BEGIN:VCALENDAR
VERSION:2.0
PRODID:-//Jazz04 - ECPv5.3.2.1//NONSGML v1.0//EN
CALSCALE:GREGORIAN
METHOD:PUBLISH
X-WR-CALNAME:Jazz04
X-ORIGINAL-URL:https://jazz04.be
X-WR-CALDESC:évènements pour Jazz04
BEGIN:VTIMEZONE
TZID:Europe/Paris
BEGIN:DAYLIGHT
TZOFFSETFROM:+0100
TZOFFSETTO:+0200
TZNAME:CEST
DTSTART:20210328T010000
END:DAYLIGHT
BEGIN:STANDARD
TZOFFSETFROM:+0200
TZOFFSETTO:+0100
TZNAME:CET
DTSTART:20211031T010000
END:STANDARD
END:VTIMEZONE
BEGIN:VEVENT
DTSTART;TZID=Europe/Paris:20211119T210000
DTEND;TZID=Europe/Paris:20211119T230000
DTSTAMP:20260421T104158
CREATED:20211020T124341Z
LAST-MODIFIED:20211022T113107Z
UID:2767-1637355600-1637362800@jazz04.be
SUMMARY:Jazz&More : Alex Koo -Sam Comerford
DESCRIPTION:Il n’est pas si fréquent de recevoir les éloges du célèbre magazine américain Downbeat Jazz Magazine et qui plus est de se voir attribuer 4 étoiles et la mention « Brillamment original» et d’être sélectionné dans leur liste des ‘Best Albums of 2019‘! C’est pourtant ce qui est arrivé au jeune pianiste belgo-japonais Alex Koo à la sortie de son dernier album « Appleblueseagreen » (Clever Tree Records\, mars 2019)\, fruit d’une collaboration entre Alex Koo et les icônes américaines Mark Turner et Ralph Alessi. Originaire de Dublin\, Sam Comerford joue du saxophone ténor et du saxophone basse\, un son rarement entendu\, un jeu tout aussi lyrique que abrasif. Sam Comerford a reçu le prix du « meilleur instrumentiste » au Tremplin d’Avignon en 2017 et se produit régulièrement en trio avec Hendrik Lasure et Jens Bouttery dans Thunderblender (lauréats du Toots Thielemans Award). \nTirant vers le jazz contemporain\, leur duo nous emportera dans un flot de vibrations créatives\, curieux et amateurs de jazz rafraîchissant soyez au rendez-vous !
URL:https://jazz04.be/event/jazzmore-alex-koo-sam-comerford/
LOCATION:Jacques Pelzer Jazz Club\, Boulevard Ernest Solvay 493\, Liège\, Liège\, 4000
CATEGORIES:Concerts
ATTACH;FMTTYPE=image/jpeg:https://jazz04.be/wp-content/uploads/2021/10/download.jpg
ORGANIZER;CN="La%20Maison%20du%20Jazz":MAILTO:jazz@skynet.be
END:VEVENT
END:VCALENDAR