﻿BEGIN:VCALENDAR
VERSION:2.0
PRODID:-//Jazz04 - ECPv5.3.2.1//NONSGML v1.0//EN
CALSCALE:GREGORIAN
METHOD:PUBLISH
X-WR-CALNAME:Jazz04
X-ORIGINAL-URL:https://jazz04.be
X-WR-CALDESC:évènements pour Jazz04
BEGIN:VTIMEZONE
TZID:Europe/Paris
BEGIN:DAYLIGHT
TZOFFSETFROM:+0100
TZOFFSETTO:+0200
TZNAME:CEST
DTSTART:20190331T010000
END:DAYLIGHT
BEGIN:STANDARD
TZOFFSETFROM:+0200
TZOFFSETTO:+0100
TZNAME:CET
DTSTART:20191027T010000
END:STANDARD
END:VTIMEZONE
BEGIN:VEVENT
DTSTART;TZID=Europe/Paris:20191212T203000
DTEND;TZID=Europe/Paris:20191212T230000
DTSTAMP:20260421T132323
CREATED:20191209T105914Z
LAST-MODIFIED:20191209T110558Z
UID:1536-1576182600-1576191600@jazz04.be
SUMMARY:JazzOff / L’oeil kollectif invite Guilherme Rodrigues & Johan Moir
DESCRIPTION:JazzOff / L’oeil kollectif invite Guilherme Rodrigues & Johan Moir+ Vernissage de l’exposition d’Emilie Škrijelj \nOuverture\, audace et liberté.\nUn pari à découvrir tous les deuxièmes jeudis du mois. \nGuilherme Rodrigues (PT) est un violoncelliste\, improvisateur et compositeur originaire de Lisbonne.\nIl développe une approche intuitive de l’improvisation et de l’exploration des timbres\, utilisant à la fois des techniques classiques et extensives. Sa musique est excitante\, polyrythmique et pleine de contrastes. Outre le travail dans des ensembles de musique allant du classique contemporain à l’improvisation libre\, il a créé de la musique pour la danse\, le théâtre\, la radio\, la télévision et le film muet. \nhttp://creativesourcesrec.com/artists/g_rodrigues.htm\nhttps://guilhermerodrigues.bandcamp.com/ \nJohan Moir (SE) a obtenu son baccalauréat en improvisation à l’Académie de musique et de théâtre de Göteborg\, en Suède. Après quelques années à Berlin et à Melbourne\, Johan est maintenant basé à Stockholm\, où il explore l’improvisation acoustique à la contrebasse\, en se concentrant sur les techniques étendues\, les préparations\, l’intonation juste et les phénomènes psychoacoustiques.\nOutre ses nombreux projets et collaborations\, Johan Moir est l’un des directeurs du label suédois ‘HearHere Records’ et a également co-organisé les festivals « SUBURBIA » et « HEARHERE ». \nhttp://johan.moir.se/\nhttps://soundcloud.com/johanmoir \nhttps://guilhermerodrigues.bandcamp.com/album/guilherme-rodrigues-johan-moir-studio-session-berlin-2017 \nhttps://loeilkollectif.com/ \nA 18h : Vernissage de l’exposition d’Emilie Škrijelj : « Echos Graphiques » (empreintes sur papier) \n20h30 – Prix libre
URL:https://jazz04.be/event/jazzoff-loeil-kollectif-invite-guilherme-rodrigues-johan-moir/
LOCATION:L’An Vert\, Rue Mathieu Polain\, 4\, Liège\, 4020\, Belgique
CATEGORIES:Concerts
ATTACH;FMTTYPE=image/jpeg:https://jazz04.be/wp-content/uploads/2019/12/loeilkollectif-nouveau-e1573040082775.jpg
END:VEVENT
END:VCALENDAR