﻿BEGIN:VCALENDAR
VERSION:2.0
PRODID:-//Jazz04 - ECPv5.3.2.1//NONSGML v1.0//EN
CALSCALE:GREGORIAN
METHOD:PUBLISH
X-WR-CALNAME:Jazz04
X-ORIGINAL-URL:https://jazz04.be
X-WR-CALDESC:évènements pour Jazz04
BEGIN:VTIMEZONE
TZID:Europe/Paris
BEGIN:DAYLIGHT
TZOFFSETFROM:+0100
TZOFFSETTO:+0200
TZNAME:CEST
DTSTART:20220327T010000
END:DAYLIGHT
BEGIN:STANDARD
TZOFFSETFROM:+0200
TZOFFSETTO:+0100
TZNAME:CET
DTSTART:20221030T010000
END:STANDARD
END:VTIMEZONE
BEGIN:VEVENT
DTSTART;TZID=Europe/Paris:20221102T190000
DTEND;TZID=Europe/Paris:20221102T233000
DTSTAMP:20260421T103423
CREATED:20220818T130601Z
LAST-MODIFIED:20220818T130601Z
UID:3433-1667415600-1667431800@jazz04.be
SUMMARY:JAZZY STRINGS
DESCRIPTION:Avec Alexandre Cavaliere (vln)\, Mario Cavaliere (gt)\, René De Smaele (tpt)\,bugle\, voc)\, Fred Guedon (gt rythm.)\, Jean-Louis Rassinfosse (cb) \n\nJAZZY STRINGS est né d’une passion pour le jazz manouche et des 2 géants que sont Django Reinhardt et Stéphane Grapelli. \nCe groupe créé par Mario Cavaliere\,le père d’Alexandre\,parcourt depuis 1992 les plus grands festivals d’Europe (Juan-Les-Pins\,Nice\,Marciac\,Samois-sur-Seine\,Helsinki). \nJazzy Strings s’est aussi produit avec de nombreux invités tels que Angelo Debarre\,Bireli Lagrène\,Didier Lockwood\, Samson et Dorado Schmitt..). \nDans la nouvelle formule\,s’est adjoint Jean Louis Rassinfosse  et René de Smaele. \nLe répertoire du groupe voyage entre les compositions de Django Reinhardt et celles des musiciens manouches modernes. \nEntrée: 15€ tout public \n13€ étudiant \nL’accès aux concerts se fait SANS réservation! \n  \nOuverture du club dès 19h00\nConcert à 21h00 \n  \n\nL’accès au restaurant se fait uniquement sous réservation. \njacquespelzerjazzclub.asbl@gmail.com\nNotre confirmation en réponse fait office de réservation.\nSi le restaurant est complet\, une liste d’attente est créée.\n\nMerci de prévenir en cas de désistement\, nous pourrons ainsi proposer la place à une autre personne.
URL:https://jazz04.be/event/jazzy-strings/
LOCATION:Jacques Pelzer Jazz Club\, Boulevard Ernest Solvay 493\, Liège\, Liège\, 4000
CATEGORIES:Concerts
ATTACH;FMTTYPE=image/jpeg:https://jazz04.be/wp-content/uploads/2022/08/Jazzy-String-scaled.jpg
ORGANIZER;CN="Jacques%20Pelzer%20Jazz%20Club":MAILTO:jacquespelzerjazzclub.asbl@gmail.com
END:VEVENT
END:VCALENDAR