﻿BEGIN:VCALENDAR
VERSION:2.0
PRODID:-//Jazz04 - ECPv5.3.2.1//NONSGML v1.0//EN
CALSCALE:GREGORIAN
METHOD:PUBLISH
X-WR-CALNAME:Jazz04
X-ORIGINAL-URL:https://jazz04.be
X-WR-CALDESC:évènements pour Jazz04
BEGIN:VTIMEZONE
TZID:Europe/Paris
BEGIN:DAYLIGHT
TZOFFSETFROM:+0100
TZOFFSETTO:+0200
TZNAME:CEST
DTSTART:20240331T010000
END:DAYLIGHT
BEGIN:STANDARD
TZOFFSETFROM:+0200
TZOFFSETTO:+0100
TZNAME:CET
DTSTART:20241027T010000
END:STANDARD
END:VTIMEZONE
BEGIN:VEVENT
DTSTART;TZID=Europe/Paris:20240601T203000
DTEND;TZID=Europe/Paris:20240601T203000
DTSTAMP:20260421T160305
CREATED:20240518T071257Z
LAST-MODIFIED:20240518T071257Z
UID:4792-1717273800-1717273800@jazz04.be
SUMMARY:Jeroen Van Herzeele & Stéphane Galland
DESCRIPTION:Avec ce duo\, Jeroen Van Herzeele et Stéphane Galland ouvrent un nouveau chapitre de leur recherche musicale. Utilisant différentes configurations – saxophone\, synthétiseurs modulaires\, EWI\, batterie et électronique – le duo expérimente la musique live à travers un dialogue exaltant\, exploitant à l’infini.
URL:https://jazz04.be/event/jeroen-van-herzeele-stephane-galland/
LOCATION:L’An Vert
CATEGORIES:Concerts
ATTACH;FMTTYPE=image/jpeg:https://jazz04.be/wp-content/uploads/2024/05/JeroenStephane.jpeg
END:VEVENT
END:VCALENDAR