﻿BEGIN:VCALENDAR
VERSION:2.0
PRODID:-//Jazz04 - ECPv5.3.2.1//NONSGML v1.0//EN
CALSCALE:GREGORIAN
METHOD:PUBLISH
X-WR-CALNAME:Jazz04
X-ORIGINAL-URL:https://jazz04.be
X-WR-CALDESC:évènements pour Jazz04
BEGIN:VTIMEZONE
TZID:Europe/Paris
BEGIN:DAYLIGHT
TZOFFSETFROM:+0100
TZOFFSETTO:+0200
TZNAME:CEST
DTSTART:20220327T010000
END:DAYLIGHT
BEGIN:STANDARD
TZOFFSETFROM:+0200
TZOFFSETTO:+0100
TZNAME:CET
DTSTART:20221030T010000
END:STANDARD
END:VTIMEZONE
BEGIN:VEVENT
DTSTART;TZID=Europe/Paris:20220624T200000
DTEND;TZID=Europe/Paris:20220624T220000
DTSTAMP:20260421T115259
CREATED:20220519T130015Z
LAST-MODIFIED:20220613T081921Z
UID:3295-1656100800-1656108000@jazz04.be
SUMMARY:THE NATURAL DREAMERZ + New DUO Film Music Selmane & JF Foliez
DESCRIPTION:20h:  Duo Selmane El Yassidi (piano/kanun) et JF Foliez (clar.)\nDans l’esprit musique de film ces nouvelles compositions sont le fruit d’une riche collaboration. Une première à découvrir pour le plus grand plaisir des oreilles! \n21h: Natural Dreamerz est un groupe de jeunes musiciens unissant leurs univers personnels à travers une musique légère et atypique !\nLeurs compositions\, riche d’influences multiples viennent des 4 coins du monde.\nCe mariage de style allie afrojazz\, consonances orientales et latines.\nLaissez-vous emporter dans ce voyage couleur d’été! \nJean-François Foliez – clarinette\, sax\nEmeline Planchard – piano\nSelmane El Yassidi – kanun\nHugo Maes  – basse\nMerdy Dani – batterie\nThierry Caps – percussions \nhttp://www.jf-foliez.com/ \n\n20h – 10 € / 7 € (demandeurs d’emploi) / 5 € (étudiants) \n\nSelon la limite des places disponibles\, les réservations sont vivement souhaitées via reservations@lanvert.be
URL:https://jazz04.be/event/jf-foliezs-playground/
LOCATION:L’An Vert
CATEGORIES:Concerts
ATTACH;FMTTYPE=image/jpeg:https://jazz04.be/wp-content/uploads/2022/05/dream.jpg
END:VEVENT
END:VCALENDAR