﻿BEGIN:VCALENDAR
VERSION:2.0
PRODID:-//Jazz04 - ECPv5.3.2.1//NONSGML v1.0//EN
CALSCALE:GREGORIAN
METHOD:PUBLISH
X-WR-CALNAME:Jazz04
X-ORIGINAL-URL:https://jazz04.be
X-WR-CALDESC:évènements pour Jazz04
BEGIN:VTIMEZONE
TZID:Europe/Paris
BEGIN:DAYLIGHT
TZOFFSETFROM:+0100
TZOFFSETTO:+0200
TZNAME:CEST
DTSTART:20230326T010000
END:DAYLIGHT
BEGIN:STANDARD
TZOFFSETFROM:+0200
TZOFFSETTO:+0100
TZNAME:CET
DTSTART:20231029T010000
END:STANDARD
END:VTIMEZONE
BEGIN:VEVENT
DTSTART;TZID=Europe/Paris:20231222T203000
DTEND;TZID=Europe/Paris:20231222T223000
DTSTAMP:20260426T040425
CREATED:20231205T151835Z
LAST-MODIFIED:20231205T194130Z
UID:4547-1703277000-1703284200@jazz04.be
SUMMARY:La chose de Noël
DESCRIPTION:C’est désormais une tradition de fin d’année à l’An Vert : Julie Mossay nous a concocté une hotte pleine de bonnes surprises pour ce concert de Noël ! \nJulie Mossay – chant\nJohan Dupont & Pascal Mohy – piano\nStefan Pougin – percussions\nTuur Florizoone – accordéon\nJean-François Foliez – clarinette\nSébastien Romignon – chant\nBo Waterschoot – basse\n\n\n\n20h30 – 15 € / 12 € (demandeurs d’emploi) / 7 € (étudiants) \n\nSelon la limite des places disponibles\, les réservations sont vivement souhaitées via anvertreservations@gmail.com \n\n\n 
URL:https://jazz04.be/event/julie-mossay-ses-amis-la-chose-de-noel/
LOCATION:L’An Vert
CATEGORIES:Concerts
ATTACH;FMTTYPE=image/jpeg:https://jazz04.be/wp-content/uploads/2023/12/image3.jpeg
END:VEVENT
END:VCALENDAR