﻿BEGIN:VCALENDAR
VERSION:2.0
PRODID:-//Jazz04 - ECPv5.3.2.1//NONSGML v1.0//EN
CALSCALE:GREGORIAN
METHOD:PUBLISH
X-WR-CALNAME:Jazz04
X-ORIGINAL-URL:https://jazz04.be
X-WR-CALDESC:évènements pour Jazz04
BEGIN:VTIMEZONE
TZID:Europe/Paris
BEGIN:DAYLIGHT
TZOFFSETFROM:+0100
TZOFFSETTO:+0200
TZNAME:CEST
DTSTART:20230326T010000
END:DAYLIGHT
BEGIN:STANDARD
TZOFFSETFROM:+0200
TZOFFSETTO:+0100
TZNAME:CET
DTSTART:20231029T010000
END:STANDARD
END:VTIMEZONE
BEGIN:VEVENT
DTSTART;TZID=Europe/Paris:20230322T190000
DTEND;TZID=Europe/Paris:20230322T233000
DTSTAMP:20260421T132044
CREATED:20221223T140747Z
LAST-MODIFIED:20230109T104542Z
UID:3825-1679511600-1679527800@jazz04.be
SUMMARY:Julien Tassin Trio
DESCRIPTION:Avec Julien Tassin (gt)\,Manu Hermia (sx) & Chris Joris (percussion et batterie)\n \nLa musique de ce trio nous plonge dans un monde où la mélancolie est porteuse d’espoir. Les trois musiciens marchent sur un fil pour livrer une musique aussi intense que fragile à la croisée du jazz\, de l’improvisation libre\, de la folk\, du blues et de la musique africaine.\nUne musique de l’instant qui cherche sans cesse à explorer des terrains où on ne l’attend pas.\n\n \n\nEntrée: 12€ tout public \n10€ étudiant \nL’accès aux concerts se fait SANS réservation! \n  \nOuverture du club dès 19h00\nConcert à 21h00 \n  \n\nL’accès au restaurant se fait uniquement sous réservation. \njacquespelzerjazzclub.asbl@gmail.com\nNotre confirmation en réponse fait office de réservation.
URL:https://jazz04.be/event/julien-tassin-trio/
LOCATION:Jacques Pelzer Jazz Club\, Boulevard Ernest Solvay 493\, Liège\, Liège\, 4000
CATEGORIES:Concerts
ATTACH;FMTTYPE=image/jpeg:https://jazz04.be/wp-content/uploads/2022/12/Julien-Tassin-3io.jpg
ORGANIZER;CN="Jacques%20Pelzer%20Jazz%20Club":MAILTO:jacquespelzerjazzclub.asbl@gmail.com
END:VEVENT
END:VCALENDAR