﻿BEGIN:VCALENDAR
VERSION:2.0
PRODID:-//Jazz04 - ECPv5.3.2.1//NONSGML v1.0//EN
CALSCALE:GREGORIAN
METHOD:PUBLISH
X-WR-CALNAME:Jazz04
X-ORIGINAL-URL:https://jazz04.be
X-WR-CALDESC:évènements pour Jazz04
BEGIN:VTIMEZONE
TZID:Europe/Paris
BEGIN:DAYLIGHT
TZOFFSETFROM:+0100
TZOFFSETTO:+0200
TZNAME:CEST
DTSTART:20240331T010000
END:DAYLIGHT
BEGIN:STANDARD
TZOFFSETFROM:+0200
TZOFFSETTO:+0100
TZNAME:CET
DTSTART:20241027T010000
END:STANDARD
END:VTIMEZONE
BEGIN:VEVENT
DTSTART;TZID=Europe/Paris:20240107T150000
DTEND;TZID=Europe/Paris:20240107T173000
DTSTAMP:20260426T035916
CREATED:20230907T135145Z
LAST-MODIFIED:20230907T140107Z
UID:4310-1704639600-1704648600@jazz04.be
SUMMARY:KALÉDA  (folk-Trad)
DESCRIPTION:S p e c t a c l e – c o n c e r t d e N o ë l Un spectacle à la fois drôle et sérieux\, participatif et contemplatif.\nAvec Kaléda\, vous partirez en voyage musical dans la féérie et les traditions des fêtes de fin d’année.\nDe l’avent jusqu’à l’épiphanie\, ces 4 troubadours vous conteront l’histoire\, grande ou petite\, de ce qui fait de la période de Noël un moment si spécial\, avec ce quelque chose d’universel\, qui touche au cœur et qui nous ramène à l’enfance.\nDu nord au sud\, de l’est à l’ouest\, vous parcourrez avec eux un répertoire traditionnel en wallon\, grec\, italien\, espagnol ou encore gallois ; vous entendrez des chants du Venezuela\, du Portugal\, de Suède\, de Lituanie… Des mélodies croates vous surprendront\, des chants orthodoxes en ukrainien vous donneront la chair de poule.\nLe provençal se liera au français sur une mélodie connue de tous…. Noël est une fête\, un méli-mélo de traditions païennes et religieuses qui fait du bien au cœur de l’hiver. \nTania Malempré : chant\, percussion\, danse\, texte – Marc Malempré :\nconception\, violon\, flute\, clarino\, cornemuse\, chant\, danse –\nFélix Matagne : guitare\, banjo\, harmonica\, percussion\, chant\, texte –\nPhilipe Lisson : contrebasse\, guitare\, chant. \nAAF : 5€ / Art27 : 1\,25€\nRéservation souhaitée\nEn partenariat avec les Jeunesses Musicales de Liège.\n«Formule abonnement» aux 5 concerts de la saison pour 50€
URL:https://jazz04.be/event/kaleda-folk-trad/
LOCATION:Foyer culturel Sprimont\, Rue du Centre 81\, 4140 Sprimont
CATEGORIES:Concerts
ATTACH;FMTTYPE=image/jpeg:https://jazz04.be/wp-content/uploads/2023/09/9-Copie.jpg
ORGANIZER;CN="Foyer%20culturel%20Sprimont":MAILTO:info@foyer-culturel-sprimont.be
END:VEVENT
END:VCALENDAR