﻿BEGIN:VCALENDAR
VERSION:2.0
PRODID:-//Jazz04 - ECPv5.3.2.1//NONSGML v1.0//EN
CALSCALE:GREGORIAN
METHOD:PUBLISH
X-WR-CALNAME:Jazz04
X-ORIGINAL-URL:https://jazz04.be
X-WR-CALDESC:évènements pour Jazz04
BEGIN:VTIMEZONE
TZID:Europe/Paris
BEGIN:DAYLIGHT
TZOFFSETFROM:+0100
TZOFFSETTO:+0200
TZNAME:CEST
DTSTART:20200329T010000
END:DAYLIGHT
BEGIN:STANDARD
TZOFFSETFROM:+0200
TZOFFSETTO:+0100
TZNAME:CET
DTSTART:20201025T010000
END:STANDARD
END:VTIMEZONE
BEGIN:VEVENT
DTSTART;TZID=Europe/Paris:20200328T140000
DTEND;TZID=Europe/Paris:20200328T220000
DTSTAMP:20260421T120406
CREATED:20200220T145214Z
LAST-MODIFIED:20200317T151206Z
UID:1832-1585404000-1585432800@jazz04.be
SUMMARY:Annulation (Covid-19) - « Liège à pied autrement »
DESCRIPTION:« Liège à pied autrement »\, un projet pluridisciplinaire organisé par la Province de Liège. \n14h : au départ de l’Impasse Marcors\, balade dans les quartiers de Liège à partir du guide touristique « Liège à pied » de Julian Huls. \n18h : petite restauration payante (sandwichs) au J.Pelzer Jazz Club. \n19h : projection commentée autour de Jacquezs Pelzer par Jean-Pol Schroeder. \n20h30 : concert. Steve Houben (sax)\, Guy Cabay (vibraphone)\, Jacques Pirotton (guitare) avec\, en guest\, Robert Jeanne (sax). \nEntrée : gratuite\, le nombre de places étant limité\, les réservations sont obligatoires à reservation@bibliothequechiroux.be. \nIl est possible de s’inscrire à tout ou à une partie du programme (balade\, soirée ou l’ensemble) mais c’est à préciser lors de la réservation.
URL:https://jazz04.be/event/liege-a-pied-autrement/
LOCATION:Jacques Pelzer Jazz Club\, Boulevard Ernest Solvay 493\, Liège\, Liège\, 4000
CATEGORIES:Autres,Concerts,Conférences
ATTACH;FMTTYPE=image/jpeg:https://jazz04.be/wp-content/uploads/2020/02/5cebab31646c4.jpg
END:VEVENT
END:VCALENDAR