﻿BEGIN:VCALENDAR
VERSION:2.0
PRODID:-//Jazz04 - ECPv5.3.2.1//NONSGML v1.0//EN
CALSCALE:GREGORIAN
METHOD:PUBLISH
X-WR-CALNAME:Jazz04
X-ORIGINAL-URL:https://jazz04.be
X-WR-CALDESC:évènements pour Jazz04
BEGIN:VTIMEZONE
TZID:Europe/Paris
BEGIN:DAYLIGHT
TZOFFSETFROM:+0100
TZOFFSETTO:+0200
TZNAME:CEST
DTSTART:20230326T010000
END:DAYLIGHT
BEGIN:STANDARD
TZOFFSETFROM:+0200
TZOFFSETTO:+0100
TZNAME:CET
DTSTART:20231029T010000
END:STANDARD
END:VTIMEZONE
BEGIN:VEVENT
DTSTART;TZID=Europe/Paris:20230222T190000
DTEND;TZID=Europe/Paris:20230222T233000
DTSTAMP:20260421T130238
CREATED:20221223T133829Z
LAST-MODIFIED:20230109T103942Z
UID:3811-1677092400-1677108600@jazz04.be
SUMMARY:LLH A Tribute to Jean-Pierre Catoul
DESCRIPTION:Avec Charles Loos (pn)\, Thibault Dille (acc.&accordina)\, Alexandre Cavaliere (vln)\, Eric Gerstmans (sax alto) & Sébastien Walnier (vlc) \nUne coproduction / collaboration entre le Jacques Pelzer Jazz Club et Les Lundis d’Hortense \nDans le cadre du Jazz Tour \nIl y a un peu plus de 20 ans déjà\, le monde du jazz belge perdait un musicien d’exception : le violoniste Jean-Pierre Catoul. Musicien flamboyant\, Jean-Pierre Catoul a tracé sa route à la fois dans le jazz\, la chanson française\, la world et le rock. Au cours de sa courte carrière\, il a travaillé notamment avec les pianistes Charles Loos et Pirly Zurstrassen et le guitariste Peter Hertmans. Artiste sans frontière\, il a dirigé le quatuor à cordes de Led Zeppelin et a accompagné des artistes de la chanson française tels que William Sheller\, Barbara ou Alain Souchon. Deux décennies plus tard\, son ancien compagnon de route\, le pianiste Charles Loos\, lui rend hommage avec un solide trio à cordes frottées (violon – alto – violoncelle) accompagné par un accordéoniste. Au menu de cette formule inédite : des compositions de Jean-Pierre Catoul mais aussi quelque ompositions qui lui sont dédiées. \n  \nhttps://www.leslundisdhortense.be/ \nhttps://www.facebook.com/leslundisdhortense \n  \n  \nEntrée: 15€ tout public \n13€ étudiant \n13€ membres LLH \nL’accès aux concerts se fait SANS réservation! \n  \nOuverture du club dès 19h00 \nConcert à 21h00 \n  \nL’accès au restaurant se fait uniquement sous réservation.  \njacquespelzerjazzclub.asbl@gmail.com \nNotre confirmation en réponse fait office de réservation.
URL:https://jazz04.be/event/llh-a-tribute-to-jean-pierre-catoul/
LOCATION:Jacques Pelzer Jazz Club\, Boulevard Ernest Solvay 493\, Liège\, Liège\, 4000
CATEGORIES:Concerts
ATTACH;FMTTYPE=image/jpeg:https://jazz04.be/wp-content/uploads/2022/12/Jean-Pierre-Catoul-Charles-Loos-©-Quetzal-Bernard-Rosenberg.jpg
END:VEVENT
END:VCALENDAR