﻿BEGIN:VCALENDAR
VERSION:2.0
PRODID:-//Jazz04 - ECPv5.3.2.1//NONSGML v1.0//EN
CALSCALE:GREGORIAN
METHOD:PUBLISH
X-WR-CALNAME:Jazz04
X-ORIGINAL-URL:https://jazz04.be
X-WR-CALDESC:évènements pour Jazz04
BEGIN:VTIMEZONE
TZID:Europe/Paris
BEGIN:DAYLIGHT
TZOFFSETFROM:+0100
TZOFFSETTO:+0200
TZNAME:CEST
DTSTART:20220327T010000
END:DAYLIGHT
BEGIN:STANDARD
TZOFFSETFROM:+0200
TZOFFSETTO:+0100
TZNAME:CET
DTSTART:20221030T010000
END:STANDARD
END:VTIMEZONE
BEGIN:VEVENT
DTSTART;TZID=Europe/Paris:20220115T200000
DTEND;TZID=Europe/Paris:20220115T220000
DTSTAMP:20260421T125807
CREATED:20211216T133309Z
LAST-MODIFIED:20211218T100632Z
UID:2948-1642276800-1642284000@jazz04.be
SUMMARY:MÂÄK QUINTET
DESCRIPTION:Créé il y a plus de 20 ans par le trompettiste Laurent Blondiau\, Mâäk est devenu un collectif polyvalent avec des ramifications internationales. Aujourd’hui\, le Mâäk Quintet est toujours l’une des formations de jazz les plus avant-gardistes de Belgique.\n\nQue ce soit en rue ou dans une salle de concert\, acoustique ou amplifié\, pour une foule de gens ou dans un cercle intime… Mâäk est synonyme de vitalité\, de dynamisme et de liberté musicale. Toujours dans un cadre clairement défini\, la musique du quintet sonne à la fois raffinée\, fascinante\, magnétique ou sensuelle. \nMême après 20 ans d’aventures musicales\, le collectif de Mâäk surprend toujours autant. Les musiciens sont en recherche constante de nouvelles possibilités sonores\, rythmiques et harmoniques. Les compositions -qui peuvent aller du duo au tutti- sont spontanées et improvisées\, mais également orchestrées. \nLaurent Blondiau – trompette\nMichel Massot – tuba\nJeroen Van Herzeele – saxophone ténor\nGrégoire Tirtiaux – saxophone alto\nSamuel Ber – batterie \n\nSelon la limite des places disponibles\, les réservations sont vivement souhaitées via reservations@lanvert.be
URL:https://jazz04.be/event/maak-quintet/
LOCATION:L’An Vert
CATEGORIES:Concerts
ATTACH;FMTTYPE=image/jpeg:https://jazz04.be/wp-content/uploads/2021/12/maak.jpg
ORGANIZER;CN="l%27An%20Vert":MAILTO:info@lanvert.be
END:VEVENT
END:VCALENDAR