﻿BEGIN:VCALENDAR
VERSION:2.0
PRODID:-//Jazz04 - ECPv5.3.2.1//NONSGML v1.0//EN
CALSCALE:GREGORIAN
METHOD:PUBLISH
X-WR-CALNAME:Jazz04
X-ORIGINAL-URL:https://jazz04.be
X-WR-CALDESC:évènements pour Jazz04
BEGIN:VTIMEZONE
TZID:Europe/Paris
BEGIN:DAYLIGHT
TZOFFSETFROM:+0100
TZOFFSETTO:+0200
TZNAME:CEST
DTSTART:20230326T010000
END:DAYLIGHT
BEGIN:STANDARD
TZOFFSETFROM:+0200
TZOFFSETTO:+0100
TZNAME:CET
DTSTART:20231029T010000
END:STANDARD
END:VTIMEZONE
BEGIN:VEVENT
DTSTART;TZID=Europe/Paris:20231018T190000
DTEND;TZID=Europe/Paris:20231018T233000
DTSTAMP:20260421T143356
CREATED:20230928T152812Z
LAST-MODIFIED:20230928T152812Z
UID:4377-1697655600-1697671800@jazz04.be
SUMMARY:Mapping Roots "First Daylight "
DESCRIPTION:Avec Michel Vrydag (Bass & Compositions)\, Bram Weijters (Pn) & Daniel Jonkers (Dr) \nLe groupe « Mapping Roots » va vous présenter le répertoire de leur dernier album “First Daylight”\, sorti en Février de cette année (2022). Les morceaux que vous allez entendre sont des compositions originales du bassiste bruxellois Michel Vrydag. Ce répertoire rassemble toutes sortes d’influences : un univers jazz et des rythmes inspirés de musiques traditionnelles venant de plusieurs continents. Avec lui\, pour présenter cette musique : le pianiste anversois  Bram Weijters et le batteur hollandais Daniel Jonkers . A trois\, ils vont tenter de répondre par les notes à la question suivante : « Joue-moi un morceau qui me raconte l’endroit d’où tu viens.» \n \nEntrée: 12€ tout public \n10€ étudiant \nL’accès aux concerts se fait SANS réservation! \n\nOuverture du club dès 19h00\nConcert à 21h00 \n\nL’accès au restaurant se fait uniquement sous réservation.\njacquespelzerjazzclub.asbl@gmail.com\nNotre confirmation en réponse fait office de réservation.
URL:https://jazz04.be/event/mapping-roots-first-daylight/
LOCATION:Jacques Pelzer Jazz Club\, Boulevard Ernest Solvay 493\, Liège\, Liège\, 4000
CATEGORIES:Concerts
ATTACH;FMTTYPE=image/jpeg:https://jazz04.be/wp-content/uploads/2023/09/Photo-Mapping-Roots-2©Delphine-Colard-5MB-scaled.jpg
ORGANIZER;CN="Jacques%20Pelzer%20Jazz%20Club":MAILTO:jacquespelzerjazzclub.asbl@gmail.com
END:VEVENT
END:VCALENDAR