﻿BEGIN:VCALENDAR
VERSION:2.0
PRODID:-//Jazz04 - ECPv5.3.2.1//NONSGML v1.0//EN
CALSCALE:GREGORIAN
METHOD:PUBLISH
X-WR-CALNAME:Jazz04
X-ORIGINAL-URL:https://jazz04.be
X-WR-CALDESC:évènements pour Jazz04
BEGIN:VTIMEZONE
TZID:Europe/Paris
BEGIN:DAYLIGHT
TZOFFSETFROM:+0100
TZOFFSETTO:+0200
TZNAME:CEST
DTSTART:20200329T010000
END:DAYLIGHT
BEGIN:STANDARD
TZOFFSETFROM:+0200
TZOFFSETTO:+0100
TZNAME:CET
DTSTART:20201025T010000
END:STANDARD
END:VTIMEZONE
BEGIN:VEVENT
DTSTART;TZID=Europe/Paris:20200306T203000
DTEND;TZID=Europe/Paris:20200306T230000
DTSTAMP:20260421T114346
CREATED:20200207T104021Z
LAST-MODIFIED:20200207T104154Z
UID:1778-1583526600-1583535600@jazz04.be
SUMMARY:Marc Frankinet Quartet
DESCRIPTION:Après avoir étudié au Conservatoire de Liège\, le trompettiste Marc Frankinet a rejoint l’Ensemble de Garrett List et La Grande Formation\, en compagnie\, notamment\, de Fabrizio Cassol\, Michel Massot et Michel Debrulle. On l’a ensuite retrouvé dans des formules plus intimistes: duo avec le pianiste Georges Hermans (album Insight Pictures) ou trio\, avec Jean-Louis Rassinfosse (Trois pour Olivia). Il présente ici son nouveau quartet. A la guitare\, Jacques Pirotton\, fidèle compagnon de route de Jacques Pelzer comme de Steve Houben. A la basse électrique\, Benoît Vanderstraeten au jeu d’une grande vélocité. A la batterie\, Antoine Cirri\, rigoureux et précis. Au répertoire\, des classiques et des compositions originales. \nUne belle alliance entre mélodie et groove. \n  \n\nPrévente : 8€\nSur place : 10€\nArticle 27 : 1.25€
URL:https://jazz04.be/event/marc-frankinet-quartet-3/
LOCATION:Centre culturel d’Ans\, place des Anciens Combattants 1\, 4432 Alleur
CATEGORIES:Concerts
ATTACH;FMTTYPE=image/jpeg:https://jazz04.be/wp-content/uploads/2020/02/quartetMFrankinet3.jpg
ORGANIZER;CN="Centre%20culturel%20d%27Ans":MAILTO:info@centreculturelans.be
END:VEVENT
END:VCALENDAR