﻿BEGIN:VCALENDAR
VERSION:2.0
PRODID:-//Jazz04 - ECPv5.3.2.1//NONSGML v1.0//EN
CALSCALE:GREGORIAN
METHOD:PUBLISH
X-WR-CALNAME:Jazz04
X-ORIGINAL-URL:https://jazz04.be
X-WR-CALDESC:évènements pour Jazz04
BEGIN:VTIMEZONE
TZID:Europe/Paris
BEGIN:DAYLIGHT
TZOFFSETFROM:+0100
TZOFFSETTO:+0200
TZNAME:CEST
DTSTART:20200329T010000
END:DAYLIGHT
BEGIN:STANDARD
TZOFFSETFROM:+0200
TZOFFSETTO:+0100
TZNAME:CET
DTSTART:20201025T010000
END:STANDARD
END:VTIMEZONE
BEGIN:VEVENT
DTSTART;TZID=Europe/Paris:20200923T210000
DTEND;TZID=Europe/Paris:20200923T233000
DTSTAMP:20260421T141701
CREATED:20200922T135348Z
LAST-MODIFIED:20200922T135348Z
UID:2292-1600894800-1600903800@jazz04.be
SUMMARY:Marc Frankinet Quartet
DESCRIPTION:Avec  Jacques Pirotton (Gt)\, Benoit Vanderstraeten (BE)\, Antoine Cirri (dr) & Marc Frankinet (tr & bugle) \nQuatre musiciens liégeois.\nCe groupe propose un répertoire de standards revisités et inédits.\nLe son de la trompette ou du bugle\, s’entremêle aux rondeurs de la basse électrique\, à la sonorité chaude de la guitare\, le tout soutenu par un jeu de batterie très coloré. Un groupe\, une atmosphère pleine de maturité\, à découvrir absolument! \n\n\n\n\n\n\nEntrée : 5/7 € \n\n\n\n\n\n\nL’accès au concert et au repas se fait uniquement sous réservation.\njacquespelzerjazzclub.asbl@gmail.com\nNotre confirmation en réponse fait office de réservation.\nNous limitons le nombre de places à 40 personnes afin de respecter les mesures sanitaires et veiller scrupuleusement à la sécurité de tous.\nOuverture du club dès 19h00\nConcert à 21h\nPort du masque dans la salle obligatoire.\nSi le temps s’y prête\, il sera bien entendu possible de suivre le concert depuis le jardin.
URL:https://jazz04.be/event/marc-frankinet-quartet-4/
LOCATION:Jacques Pelzer Jazz Club\, Boulevard Ernest Solvay 493\, Liège\, Liège\, 4000
CATEGORIES:Concerts
ATTACH;FMTTYPE=image/jpeg:https://jazz04.be/wp-content/uploads/2020/09/quartetMFrankinet3_202099111642_r.jpg
END:VEVENT
END:VCALENDAR